BEGIN:VCALENDAR
VERSION:2.0
PRODID:-//Gratis-in-Berlin//NONSGML kigkonsult.se iCalcreator 2.14//
METHOD:PUBLISH
X-WR-CALNAME:Gratis-in-Berlin Tip Kalender
X-WR-CALDESC:Erhalte Gratis-in-Berlin Tips in deinem Kalender
BEGIN:VEVENT
UID:20260420T161238UTC-2844112Jmj@Gratis-in-Berlin
DTSTAMP:20260420T161238Z
DESCRIPTION:Die Stadtteilbibliothek Reinickendorf-West läd jeden Freitag um 1
 7 Uhr zum gemeinsamen Filme schauen ein!Termine:27.10.23 + 24.11.23 + 15.1
 2.23 + 12.01.24 + 16.02.24\n\nViel Spass wünscht Gratis-in-Berlin\n\nLink zum T
 ip: \nZu den Gratis-in-Berlin Angeboten: http://www.gratis-in-berlin.de\n
DTSTART;VALUE=DATE:20240216
DTEND;VALUE=DATE:20240217
SUMMARY:Kino für Kids in der Stadtteilbibliothek Reinickendorf-West
END:VEVENT
END:VCALENDAR
