BEGIN:VCALENDAR
VERSION:2.0
PRODID:-//Gratis-in-Berlin//NONSGML kigkonsult.se iCalcreator 2.14//
METHOD:PUBLISH
X-WR-CALNAME:Gratis-in-Berlin Tip Kalender
X-WR-CALDESC:Erhalte Gratis-in-Berlin Tips in deinem Kalender
BEGIN:VEVENT
UID:20260420T143243UTC-85577uUuDP@Gratis-in-Berlin
DTSTAMP:20260420T143243Z
DESCRIPTION:Die Bezirkszentralbibliothek Pablo Neruda wird am Samstagnachmi
 ttag zur Kulisse für Lesungen\, literarische Spiele und bildkünstlerische Workshops.
  LesArt lädt Familien mit Kindern ab 6 Jahren zum Diskutieren\, Fabulieren\,
  Fantasieren\, Rätseln\, Spielen und Zeichnen ein.Bei überraschenden Entdeckungen
  rund um alte und neue Geschichten werden die Besucher*innen von Franziska
  Bauer\, Sylvia Habermann\, Lorenzo Pennacchietti oder Maike Storf begleit
 et.Oktober bis Dezember immer samstags 15 Uhr- Bezirkszentralbibliothek Pa
 blo Neruda\, Kinderbibliothek im 1. Stock- Eintritt frei- Voranmeldung für alle
  Termine unter diesem Link: pretix.eu/bibxhain/leselauneProgrammüberblick:7.10.
  Maike Storf: Vom Unsichtbarwerden und Unsichtbarsein? Jansson\, Tove: Ges
 chichten aus dem Mumintal und? Shaw\, Elizabeth: Als Robert verschwand14.1
 0. Lorenzo Pennacchietti: Vom Hegen und Pflegen: Im Garten mit Oma und Opa
 ? Wei\, TANG: Oma Apo und? Romanyschyn\, R. \; Lessiw\, Andrij: Das Rübchen21.1
 0. Franziska Bauer: Berufe? Schirneck/Hattenhauer: Der Wolkenkratzer schwi
 ngt die Bürste? Davey\, Owen: Wer bin ich?28.10. Sylvia Habermann: ?Der kleine 
 Käfer Immerfrech? von Eric Carle04.11. Lorenzo Pennacchietti: ?Smon Smon? vo
 n Sonja Danowski11.11. Lorenzo Pennacchietti: ?Lili? von Wen Dee Tan18.11.
  Franziska Bauer: Geschichten aus der Ferne. Märchen-Erzählreise in die Welt25
 .11. Sylvia Habermann: ?Das Herz des Affen? von Anja Mikolajetz2.12. Sylvi
 a Habermann: ?Der Wolf\, die Ente &amp\; die Maus? von Mac Barnett und Jon
  Klassen9.12. Franziska Bauer: ?Passt nicht? von Mieke Scheier16.12. Maike
  Storf: Vom Unsichtbarwerden und Unsichtbarsein? Jansson\, Tove: Geschicht
 en aus dem Mumintal? Shaw\, Elizabeth: Als Robert verschwand\n\nViel Spass
  wünscht Gratis-in-Berlin\n\nLink zum Tip: \nZu den Gratis-in-Berlin Angeboten:
  http://www.gratis-in-berlin.de\n
DTSTART;VALUE=DATE:20231216
DTEND;VALUE=DATE:20231217
SUMMARY:Leselaune ? Literaturentdeckungen. Für Kinder ab 6 (bis 16.12.)
END:VEVENT
END:VCALENDAR
