BEGIN:VCALENDAR
VERSION:2.0
PRODID:-//Gratis-in-Berlin//NONSGML kigkonsult.se iCalcreator 2.14//
METHOD:PUBLISH
X-WR-CALNAME:Gratis-in-Berlin Tip Kalender
X-WR-CALDESC:Erhalte Gratis-in-Berlin Tips in deinem Kalender
BEGIN:VEVENT
UID:20260424T100657UTC-3217IgNH1d@Gratis-in-Berlin
DTSTAMP:20260424T100657Z
DESCRIPTION:Entdecke die Kraft deiner Kreativität\, um deine ?Message? zu ges
 talten. Ob im Graffiti-Style\, gedruckt oder gezeichnet\, lerne deine Idee
 n auf großen Flächen\, Papier oder T-Shirts zu bringen. Lerne verschiedene künstle
 rische Technik kennenlernen\, um deine Themen auf kreative Weise auszudrücken. 
 Es gibt Raum für Diskussion zu DEINEN Themen. Was stört dich? Worauf sollte mehr i
 n unserer Welt und Gesellschaft geachtet werden?Vom 30.10. ? 03.11. (Ferie
 nwoche 2) | 10 bis 15 Uhrab 10 Jahre | kostenfreiORT: Medienzentrum Pankow
 \, Hosemannstraße 14\, 10409 BerlinAnmeldung (bitte mit Name\, Alter und Te
 lefonnummer) unter info@weinmeisterhaus.de\n\nViel Spass wünscht Gratis-in-Berl
 in\n\nLink zum Tip: \nZu den Gratis-in-Berlin Angeboten: http://www.gratis
 -in-berlin.de\n
DTSTART;VALUE=DATE:20231030
DTEND;VALUE=DATE:20231104
SUMMARY:Streetart als ?Message? ? Graffiti\, Farbe\, Druck
END:VEVENT
END:VCALENDAR
