BEGIN:VCALENDAR
VERSION:2.0
PRODID:-//Gratis-in-Berlin//NONSGML kigkonsult.se iCalcreator 2.14//
METHOD:PUBLISH
X-WR-CALNAME:Gratis-in-Berlin Tip Kalender
X-WR-CALDESC:Erhalte Gratis-in-Berlin Tips in deinem Kalender
BEGIN:VEVENT
UID:20260420T080620UTC-0182Enva8m@Gratis-in-Berlin
DTSTAMP:20260420T080620Z
DESCRIPTION:Geschichten von Trickster-Figuren gibt es auf allen Kontinenten
 . Viele Objekte des Ethnologischen Museums thematisieren diese Tierwesen\,
  wie z.B. die schlaue Spinne Anansi oder den klugen Hornvogel.Trickster ha
 ndeln trickreich\, unerwartet oder heldenhaft! Ihr lasst euch inspirieren 
 und gestaltet eigene Trickster. Der Einstieg ist jederzeit möglich.- kostenfr
 ei - Sprachen: Deutsch\, Englisch - Raum 217- Gehört zu: Ethnologisches Museu
 m und Museum für Asiatische KunstTreffpunkt &amp\; Uhrzeit: Den Treffpunkt für Führu
 ngen und den Ort für Workshops finden Sie auf Ihrer Buchungsbestätigung. Damit di
 e Führung pünktlich beginnen kann\, bitten wir Sie\, 15 Minuten vor Programmbeginn i
 m Humboldt Forum einzutreffen. Berücksichtigen Sie bitte unbedingt diese zusätzli
 che Viertelstunde bei Ihrer Planung. Vielen Dank!\n\nViel Spass wünscht Gratis-
 in-Berlin\n\nLink zum Tip: \nZu den Gratis-in-Berlin Angeboten: http://www
 .gratis-in-berlin.de\n
DTSTART;VALUE=DATE:20231125
DTEND;VALUE=DATE:20231126
SUMMARY:Trickster\, Tierwesen und Gestaltenwandler. Drop-In
END:VEVENT
END:VCALENDAR
