BEGIN:VCALENDAR
VERSION:2.0
PRODID:-//Gratis-in-Berlin//NONSGML kigkonsult.se iCalcreator 2.14//
METHOD:PUBLISH
X-WR-CALNAME:Gratis-in-Berlin Tip Kalender
X-WR-CALDESC:Erhalte Gratis-in-Berlin Tips in deinem Kalender
BEGIN:VEVENT
UID:20260420T080620UTC-2444Mxj5CF@Gratis-in-Berlin
DTSTAMP:20260420T080620Z
DESCRIPTION:Die Fernrohre liegen für Euch bereit! So lassen sich buntes Treiben 
 im Schlüterhof und seine faszinierende Architektur von unserem Fenster aus ganz
  genau betrachten. Inspiriert von diesem Fensterblick gestaltet Ihr Euer e
 igenes Phantasiegebäude als Bühne mit bewegbaren Figuren.Zur Umsetzung erhalten a
 lle Teilnehmer*innen einen Papierbogen\, historische Bildvorlagen und bunt
 es Kreativmaterial. Das neu entstandene Papiertheater lässt sich falten und 
 mit nach Hause nehmen.- Sprache: in Deutsch\, keine Sprachkenntnisse erfor
 derlich- kostenfrei- Dauer: 180 Minuten- Ort: Werkraum 2\, 1.OG- Zeitraum:
  14:00-17:00 Uhr\n\nViel Spass wünscht Gratis-in-Berlin\n\nLink zum Tip: \nZu d
 en Gratis-in-Berlin Angeboten: http://www.gratis-in-berlin.de\n
DTSTART;VALUE=DATE:20231118
DTEND;VALUE=DATE:20231119
SUMMARY:Fensterblick. Genau gesehen ist es mehr! Drop-In
END:VEVENT
END:VCALENDAR
