BEGIN:VCALENDAR
VERSION:2.0
PRODID:-//Gratis-in-Berlin//NONSGML kigkonsult.se iCalcreator 2.14//
METHOD:PUBLISH
X-WR-CALNAME:Gratis-in-Berlin Tip Kalender
X-WR-CALDESC:Erhalte Gratis-in-Berlin Tips in deinem Kalender
BEGIN:VEVENT
UID:20260422T083638UTC-4131mvCHEB@Gratis-in-Berlin
DTSTAMP:20260422T083638Z
DESCRIPTION:In den Herbstferien hat die Kinder- und Jugendbibliothek (KiJuB
 i) in der Amerika-Gedenkbibliothek ein buntes Programm zu bieten. Von Märche
 n und Halloween-Basteln für die Kleinen bis hin zu Gaming und Workshops für die Größere
 n ist für jeden was dabei. Langeweile adé!Und beim großen Medienbasar am 28. Oktob
 er wird bestimmt jedes Familienmitglied mit neuen alten Schätzen fündig.Mehr digi
 tale Veranstaltungen und lustige Videos gibt's übrigens auch rund um die Uhr au
 f unserem YouTube-Kanal #zlbdigital zu sehen!Foto&nbsp\;© Adobe Stock | Joh
 nstocker\n\nViel Spass wünscht Gratis-in-Berlin\n\nLink zum Tip: \nZu den Grati
 s-in-Berlin Angeboten: http://www.gratis-in-berlin.de\n
DTSTART;VALUE=DATE:20231021
DTEND;VALUE=DATE:20231106
SUMMARY:Herbstferienprogramm in der Kinder- und Jugendbibliothek (AGB)
END:VEVENT
END:VCALENDAR
