BEGIN:VCALENDAR
VERSION:2.0
PRODID:-//Gratis-in-Berlin//NONSGML kigkonsult.se iCalcreator 2.14//
METHOD:PUBLISH
X-WR-CALNAME:Gratis-in-Berlin Tip Kalender
X-WR-CALDESC:Erhalte Gratis-in-Berlin Tips in deinem Kalender
BEGIN:VEVENT
UID:20260420T173906UTC-5376rIv0bG@Gratis-in-Berlin
DTSTAMP:20260420T173906Z
DESCRIPTION:ab 16 Uhr &amp\; freier Eintritt 'MÄRCHENTAGE 2023' im Stadtteil
 Zentrum KreativHaus Mitte (Fischerinsel 3)&nbsp\; - die TheaterMacher präsen
 tieren: 'Das Märchen für das kahle Monster'Das kahle Monster ist sehr einsam - de
 nn wenn es wütend ist\, macht es allen Angst. Die Tiere bringen dem Monster bei
 \, dass die Wut auch zu etwas Gutem führen kann! Bist du neugierig? Dann komm v
 orbei und werde mit uns zusammen schön wütend! Wir freuen uns auf euch!- - -Dauer:
  50 MinutenMit herzlichen Grüßen\,die TheaterMacher.\n\nViel Spass wünscht Gratis-in
 -Berlin\n\nLink zum Tip: \nZu den Gratis-in-Berlin Angeboten: http://www.g
 ratis-in-berlin.de\n
DTSTART;VALUE=DATE:20231118
DTEND;VALUE=DATE:20231119
SUMMARY:Märchentage 2023\, die TheaterMacher präsentieren: Das Märchen für das kahle M
 onster
END:VEVENT
END:VCALENDAR
