BEGIN:VCALENDAR
VERSION:2.0
PRODID:-//Gratis-in-Berlin//NONSGML kigkonsult.se iCalcreator 2.14//
METHOD:PUBLISH
X-WR-CALNAME:Gratis-in-Berlin Tip Kalender
X-WR-CALDESC:Erhalte Gratis-in-Berlin Tips in deinem Kalender
BEGIN:VEVENT
UID:20260420T130254UTC-9673353bvZ@Gratis-in-Berlin
DTSTAMP:20260420T130254Z
DESCRIPTION:im Stadtteil Zentrum KreativHaus Mitte (Fischerinsel 3)&nbsp\; 
 - Kinder-Theater APPLAUSi präsentiert: 'Die Piraten von der Fischerinsel'. A
 b 14 Uhr freier Eintritt.Alle Mann an Deck! Macht euch bereit für ein Märchen: da
 s Piraten-Märchen! Zwei Schiffe\, zwei Teams und zwei Teile einer Karte! Wer
  findet den Schatz? Seewölfe? Oder Meerkatzen? Also\, alle ran ans Ruder! Die
  Vorstellung beginnt... Wir freuen uns auf euch!- - -Für Kinder ab 5 JahreDauer
 : 50 MinutenMit herzlichen Grüßen von den Applausis.\n\nViel Spass wünscht Gratis-in
 -Berlin\n\nLink zum Tip: \nZu den Gratis-in-Berlin Angeboten: http://www.g
 ratis-in-berlin.de\n
DTSTART;VALUE=DATE:20231119
DTEND;VALUE=DATE:20231120
SUMMARY:Märchentage 2023 mit Kinder-Theater Applausi: Die Piraten von der Fis
 cherinsel
END:VEVENT
END:VCALENDAR
