BEGIN:VCALENDAR
VERSION:2.0
PRODID:-//Gratis-in-Berlin//NONSGML kigkonsult.se iCalcreator 2.14//
METHOD:PUBLISH
X-WR-CALNAME:Gratis-in-Berlin Tip Kalender
X-WR-CALDESC:Erhalte Gratis-in-Berlin Tips in deinem Kalender
BEGIN:VEVENT
UID:20260422T115148UTC-9270PpeGUW@Gratis-in-Berlin
DTSTAMP:20260422T115148Z
DESCRIPTION:für Jugendliche von 13-18 JahreIn Coriolis wirst du Teil einer Raums
 chiffcrew\, die die Weiten des Weltraums erkundet. Am 30.10 bis 02.11 tauc
 hen wir ein in das Weltraum Abenteuer von 11 bis 15 Uhr im JFE U5 am Cottb
 usser Platz. Du brauchst keine Vorerfahrung mit Pen and Paper Rollenspiel 
 haben\, wir werden eigene Charaktere erstellen und los! Meldet euch mit ei
 ner kurzen Nachricht an unter paul.cossmer@gmail.com\n\nViel Spass wünscht Grat
 is-in-Berlin\n\nLink zum Tip: \nZu den Gratis-in-Berlin Angeboten: http://
 www.gratis-in-berlin.de\n
DTSTART;VALUE=DATE:20231030
DTEND;VALUE=DATE:20231103
SUMMARY:Coriolis - Ein Pen&Paper Sci-Fi Abenteuer
END:VEVENT
END:VCALENDAR
