BEGIN:VCALENDAR
VERSION:2.0
PRODID:-//Gratis-in-Berlin//NONSGML kigkonsult.se iCalcreator 2.14//
METHOD:PUBLISH
X-WR-CALNAME:Gratis-in-Berlin Tip Kalender
X-WR-CALDESC:Erhalte Gratis-in-Berlin Tips in deinem Kalender
BEGIN:VEVENT
UID:20260422T101038UTC-8016G0i7OS@Gratis-in-Berlin
DTSTAMP:20260422T101038Z
DESCRIPTION:Mitglieder des Förderkreises der Lichtenberger Bibliotheken lesen 
 für Kinder und Familien vor.Kostenfreie Veranstaltung ohne Anmeldung in der&nbs
 p\;Anna-Seghers-Bibliothek im Linden-Center.Im Rahmen der verlängerten Bibli
 otheksöffnungszeiten. Ermöglicht durch das Netzwerk der Wärme. Das Netzwerk der Wärm
 e ist initiiert und finanziert vom Berliner Senat.\n\nViel Spass wünscht Gratis
 -in-Berlin\n\nLink zum Tip: https://www.gratis-in-berlin.de/kalender/item/
 2063875-veranstaltung-i-geschichten-zu-verschenken\nZu den Gratis-in-Berli
 n Angeboten: http://www.gratis-in-berlin.de\n
DTSTART;VALUE=DATE:20231118
DTEND;VALUE=DATE:20231119
SUMMARY: Veranstaltung I Geschichten zu verschenken
END:VEVENT
END:VCALENDAR
