BEGIN:VCALENDAR
VERSION:2.0
PRODID:-//Gratis-in-Berlin//NONSGML kigkonsult.se iCalcreator 2.14//
METHOD:PUBLISH
X-WR-CALNAME:Gratis-in-Berlin Tip Kalender
X-WR-CALDESC:Erhalte Gratis-in-Berlin Tips in deinem Kalender
BEGIN:VEVENT
UID:20260422T102708UTC-7772IjVEVG@Gratis-in-Berlin
DTSTAMP:20260422T102708Z
DESCRIPTION:Ein Musikworkshop für Klein und Groß mit der Fondation Bolingo e.V.Ko
 stenfreier Workshop ohne Anmeldung in der&nbsp\;Bodo-Uhse-Bibliothek.Im Ra
 hmen der verlängerten Bibliotheksöffnungszeiten. Ermöglicht durch das Netzwerk der
  Wärme. Das Netzwerk der Wärme ist initiiert und finanziert vom Berliner Senat
 .\n\nViel Spass wünscht Gratis-in-Berlin\n\nLink zum Tip: \nZu den Gratis-in-Be
 rlin Angeboten: http://www.gratis-in-berlin.de\n
DTSTART;VALUE=DATE:20231118
DTEND;VALUE=DATE:20231119
SUMMARY:Workshop I Afrikanische Lieder und Instrumente
END:VEVENT
END:VCALENDAR
