BEGIN:VCALENDAR
VERSION:2.0
PRODID:-//Gratis-in-Berlin//NONSGML kigkonsult.se iCalcreator 2.14//
METHOD:PUBLISH
X-WR-CALNAME:Gratis-in-Berlin Tip Kalender
X-WR-CALDESC:Erhalte Gratis-in-Berlin Tips in deinem Kalender
BEGIN:VEVENT
UID:20260420T143244UTC-6903nJDMOS@Gratis-in-Berlin
DTSTAMP:20260420T143244Z
DESCRIPTION:Es ist heiß\, sehr heiß! Und der erlösende Regen bleibt aus. Die Reg
 entrude muss eingeschlafen sein. Lasst uns sie gemeinsam wecken! Wir begle
 iten Maren und Andres auf ihrem abenteuerlichen Weg und das Wichtigste ist
  wie immer der richtige Spruch!Ein Klimamärchen für Groß und Klein zum Lauschen\, 
 Mitmachen und Lachen.Kostenfreie Veranstaltung ohne Anmeldung in der&nbsp\
 ;Bodo-Uhse-Bibliothek.Im Rahmen der verlängerten Bibliotheksöffnungszeiten. Erm
 öglicht durch das Netzwerk der Wärme. Das Netzwerk der Wärme ist initiiert und fi
 nanziert vom Berliner Senat.\n\nViel Spass wünscht Gratis-in-Berlin\n\nLink zum
  Tip: \nZu den Gratis-in-Berlin Angeboten: http://www.gratis-in-berlin.de
 \n
DTSTART;VALUE=DATE:20231119
DTEND;VALUE=DATE:20231120
SUMMARY:Erzähltheater I Nicola Knappe: Die Regentrude
END:VEVENT
END:VCALENDAR
