BEGIN:VCALENDAR
VERSION:2.0
PRODID:-//Gratis-in-Berlin//NONSGML kigkonsult.se iCalcreator 2.14//
METHOD:PUBLISH
X-WR-CALNAME:Gratis-in-Berlin Tip Kalender
X-WR-CALDESC:Erhalte Gratis-in-Berlin Tips in deinem Kalender
BEGIN:VEVENT
UID:20260420T130256UTC-1143L1UZzG@Gratis-in-Berlin
DTSTAMP:20260420T130256Z
DESCRIPTION:In der Humboldt-Bibliothek im Rahmen der Veranstaltungsreihe zu
 m 100. Geburtstag von Otfried Preußler !Für Kinder ab 4 Jahren geeignet.\n\nViel
  Spass wünscht Gratis-in-Berlin\n\nLink zum Tip: \nZu den Gratis-in-Berlin Ange
 boten: http://www.gratis-in-berlin.de\n
DTSTART;VALUE=DATE:20231110
DTEND;VALUE=DATE:20231111
SUMMARY:'Die kleine Hexe' mit dem Berliner Puppentheater
END:VEVENT
END:VCALENDAR
