BEGIN:VCALENDAR
VERSION:2.0
PRODID:-//Gratis-in-Berlin//NONSGML kigkonsult.se iCalcreator 2.14//
METHOD:PUBLISH
X-WR-CALNAME:Gratis-in-Berlin Tip Kalender
X-WR-CALDESC:Erhalte Gratis-in-Berlin Tips in deinem Kalender
BEGIN:VEVENT
UID:20260420T130255UTC-4223vK3Sb4@Gratis-in-Berlin
DTSTAMP:20260420T130255Z
DESCRIPTION:Die WILMA wird am Freitag\, den 10.11.\, zum sensorischen Zentr
 um der vorweihnachtlichen Genüsse. Die Bäcker-Innung Berlin veranstaltet ihre ren
 ommierte Stollenprüfung in den Räumlichkeiten des Einkaufszentrums. Ab 10:00 Uhr 
 sind alle Berlinerinnen und Berliner herzlich eingeladen\, die weihnachtli
 chen Delikatessen der teilnehmenden Innungsbetriebe zu probieren und sich 
 von der festlichen Atmosphäre in der Markthalle der Wilma im Untergeschoss d
 es Hauses inspirieren zu lassen.?Es ist uns eine Freude\, Gastgeber für die Bäcke
 r-Innung Berlin und ihre meisterhaften Kreationen zu sein. Mit dieser Vera
 nstaltung beginnt nicht nur offiziell die Weihnachtszeit\, sondern auch ei
 ne Zeit des gemeinsamen Genießens und Feierns?\, sagt Kim Reisen\, Centerma
 nagerin der WILMA. ?Besonders das Thema Genuss hat in der Wilma traditione
 ll einen hohen Stellenwert\, wie unsere Markthalle im Untergeschoss beweis
 t. Dort gibt es das ganze Jahr Köstlichkeiten zu probieren.?Die besten Stolle
 n erhalten bei der Prüfung die Bestnote ?sehr gut?. Bei drei aufeinanderfolgend
 en Bestnoten winkt die ?Gold-Auszeichnung? der Bäcker-Innung Berlin. Speziel
 l ausgebildete Prüfer bewerten die Stollen anhand einer Checkliste\, die Kriter
 ien wie Form\, Aussehen\, Oberflächen- und Krusteneigenschaften\, aber auch 
 Geruch und Geschmack umfasst. Diese Experten sind nicht nur Meister ihres 
 Fachs\, sondern durchlaufen auch regelmäßige Schulungen in Sensorik.2022 wur
 den 51 Stollen zur Prüfung abgegeben\, von denen 22 die Note ?sehr gut? und 28 
 die Bewertung ?gut? erhalten haben. Neben den offiziellen Prüfungen wird es abe
 r auch in diesem Jahr wieder einen ?Publikumsliebling? geben\, den die Bes
 ucherinnen und Besucher der WILMA wählen dürfen. Im letzten Jahr konnte sich der 
 Aprikosen-Erdbeer-Orangen-Stollen der Köpenicker Bäckerei &amp\; Konditorei Chr
 istian Scholz durchsetzen.Die Stollenprüfung der Bäcker-Innung Berlin findet am 1
 0. 11. 2023 von 10:00 bis 18:00 Uhr in der WILMA statt. Das Verkosten der 
 Stollen ist selbstverständlich kostenlos und bietet eine wunderbare Gelegenh
 eit\, sich auf die bevorstehende Weihnachtszeit einzustimmen. Über die WILM
 A:Seit über zehn Jahren ist das Nahversorgungszentrum der soziale Mittelpunkt i
 m Berliner Stadtbezirk Charlottenburg-Wilmersdorf. Auf 32.100 Quadratmeter
 n Mietfläche befinden sich nun nach Fertigstellung der Modernisierung über 100 Sh
 ops. Ergänzt wird der Mietermix durch die Markthalle mit abwechslungsreichen
  gastronomischen Konzepten. Der Standort ist über die U- und S-Bahnstationen Bi
 smarckstraße\, Wilmersdorfer Straße und Charlottenburg sowie Bushaltestellen
  in unmittelbarer Nähe optimal an das Berliner ÖPNV-Netz angebunden. Zudem ve
 rfügt die WILMA über 300 Parkplätze. Das Shoppingcenter wird von Unibail-Rodamco-Westf
 ield betrieben.Über Unibail-Rodamco-WestfieldUnibail-Rodamco-Westfield ist 
 ein Eigentümer\, Entwickler und Betreiber von nachhaltigen\, hochwertigen Immob
 ilien in den dynamischsten Städten Europas und der USA.Die Gruppe betreibt 7
 5 Shoppingcenter in 12 Ländern\, darunter 39 mit dem weltberühmten Westfield-Bran
 d im Namen. Diese Center werden jährlich über 900 Millionen Mal besucht und biete
 n Retailern und Marken eine einzigartige Plattform\, um mit den Besucher:i
 nnen in Kontakt zu treten. In Deutschland betreibt die Gruppe aktuell 20 S
 hoppingcenter\, davon acht im eigenen Portfolio. URW verfügt zudem über ein Portfoli
 o aus hochwertigen Büros\, zehn Kongress- und Ausstellungszentren in Paris und 
 eine Projektentwicklungspipeline von drei Milliarden Euro mit hauptsächlich 
 gemischt genutzten Assets. Derzeit besteht das Portfolio im Wert von 51 Mi
 lliarden Euro zu 87 % aus Handelsimmobilien\, zu 6 % aus Büroimmobilien\, zu 5 
 % aus Kongress- und Ausstellungszentren und zu 2 % aus Dienstleistungsfläche
 n (Stand: 30. Juni 2023).URW ist ein engagierter Partner von Großstädten bei 
 der Erneuerung und Modernisierung urbaner Räume ? sowohl durch die Entwicklu
 ng von gemischt genutzten Immobilien als auch bei der Nachrüstung von Gebäuden ge
 mäß branchenführender Nachhaltigkeitsstandards. Dieses Engagement wird durch die 
 'Better Places 2030'-Agenda der Gruppe verstärkt\, die darauf abzielt\, eine
 n positiven ökologischen\, sozialen und wirtschaftlichen Einfluss auf die Städt
 e und Gemeinschaften zu erwirken\, in denen URW tätig ist.URW ist an der Börse 
 Euronext Paris (Ticker: URW) gelistet. Eine Zweitnotiz wurde in Australien
  durch ?Chess Depositary Interests? eingerichtet. Die Gruppe genießt ein Ra
 ting in der Kategorie BBB+ bei Standard &amp\; Poor?s und in der Kategorie
  Baa2 bei Moody?s.Weitere Informationen finden Sie unter: www.urw.com sowi
 e www.unibail-rodamco-westfield.de\n\nViel Spass wünscht Gratis-in-Berlin\n\nLi
 nk zum Tip: \nZu den Gratis-in-Berlin Angeboten: http://www.gratis-in-berl
 in.de\n
DTSTART;VALUE=DATE:20231110
DTEND;VALUE=DATE:20231111
SUMMARY:Stollenprüfung der Bäcker-innung Berlin 2023 in der WILMA Shoppen
END:VEVENT
END:VCALENDAR
