BEGIN:VCALENDAR
VERSION:2.0
PRODID:-//Gratis-in-Berlin//NONSGML kigkonsult.se iCalcreator 2.14//
METHOD:PUBLISH
X-WR-CALNAME:Gratis-in-Berlin Tip Kalender
X-WR-CALDESC:Erhalte Gratis-in-Berlin Tips in deinem Kalender
BEGIN:VEVENT
UID:20260422T085036UTC-5758bPntbF@Gratis-in-Berlin
DTSTAMP:20260422T085036Z
DESCRIPTION:Kinder-und Jugendliche\, die sich für Technik begeistern! Wir haben 
 einen Ort zum kostenlosen Experimentieren und Forschen in Berlin Wedding..
 Kommt vorbei jeden Freitag ab 15h..- Betreung von Jugend forscht Projekten
 - jährliche Ausrichtung World Robot Olympiad (Lego Roboter)- 3D Drucker- für alle
  Kinder / Jugendliche ab ca. 10 Jahren\n\nViel Spass wünscht Gratis-in-Berlin\n
 \nLink zum Tip: https://www.gratis-in-berlin.de/kinder-jugendliche/item/20
 64006-kinder-forschen-inn-berlin\nZu den Gratis-in-Berlin Angeboten: http:
 //www.gratis-in-berlin.de\n
DTSTART;VALUE=DATE:20240223
DTEND;VALUE=DATE:20240224
SUMMARY:Kinder Forschen in Berlin
END:VEVENT
END:VCALENDAR
