BEGIN:VCALENDAR
VERSION:2.0
PRODID:-//Gratis-in-Berlin//NONSGML kigkonsult.se iCalcreator 2.14//
METHOD:PUBLISH
X-WR-CALNAME:Gratis-in-Berlin Tip Kalender
X-WR-CALDESC:Erhalte Gratis-in-Berlin Tips in deinem Kalender
BEGIN:VEVENT
UID:20260420T124608UTC-3881Tgh2RS@Gratis-in-Berlin
DTSTAMP:20260420T124608Z
DESCRIPTION:Mitglieder des Förderkreises der Lichtenberger Bibliotheken lesen 
 für Kinder und Familien vor.Kostenfreie Veranstaltung ohne Anmeldung in der Ant
 on-Saefkow-Bibliothek.Im Rahmen der verlängerten Bibliotheksöffnungszeiten. Erm
 öglicht durch das Netzwerk der Wärme. Das Netzwerk der Wärme ist initiiert und fi
 nanziert vom Berliner Senat.\n\nViel Spass wünscht Gratis-in-Berlin\n\nLink zum
  Tip: \nZu den Gratis-in-Berlin Angeboten: http://www.gratis-in-berlin.de
 \n
DTSTART;VALUE=DATE:20231125
DTEND;VALUE=DATE:20231126
SUMMARY: Veranstaltung I Geschichten zu verschenken
END:VEVENT
END:VCALENDAR
