BEGIN:VCALENDAR
VERSION:2.0
PRODID:-//Gratis-in-Berlin//NONSGML kigkonsult.se iCalcreator 2.14//
METHOD:PUBLISH
X-WR-CALNAME:Gratis-in-Berlin Tip Kalender
X-WR-CALDESC:Erhalte Gratis-in-Berlin Tips in deinem Kalender
BEGIN:VEVENT
UID:20260420T130257UTC-3800MXaJ1x@Gratis-in-Berlin
DTSTAMP:20260420T130257Z
DESCRIPTION:Kinder\, die in der Großstadt Berlin groß werden\, kennen Obst un
 d Gemüse häufig nur aus dem Supermarktregal. Dort wird ganzjährig ein vielfältiges 
 Angebot vorgehalten: von Kohl über Ananas bis hin zu Erdbeere und Avocado.Das W
 issen um heimische Nutzpflanzen\, deren Wachstumsphasen und Haupterntezeit
 en\, geht dadurch langsam verloren.Hier setzt das Würfelspiel an. Im Wettrennen
  mit dem Containerschiff lösen die Kinder Aufgaben zu Produktion\, Transport 
 und dem jahreszeitlichen Angebot von heimischen und exotischen Obst- und G
 emüsesorten.Für Grundschüler*innen ab Klasse 2.Kostenfreier Workshop ohne Anmeldung in de
 r&nbsp\;Bodo-Uhse-Bibliothek.Im Rahmen der verlängerten Bibliotheksöffnungszeit
 en. Ermöglicht durch das Netzwerk der Wärme. Das Netzwerk der Wärme ist initiiert
  und finanziert vom Berliner Senat.\n\nViel Spass wünscht Gratis-in-Berlin\n\nL
 ink zum Tip: \nZu den Gratis-in-Berlin Angeboten: http://www.gratis-in-ber
 lin.de\n
DTSTART;VALUE=DATE:20231125
DTEND;VALUE=DATE:20231126
SUMMARY:Ernährungsworkshop I Power Kauer auf Gemüsejagd Verbraucherzentrale
END:VEVENT
END:VCALENDAR
