BEGIN:VCALENDAR
VERSION:2.0
PRODID:-//Gratis-in-Berlin//NONSGML kigkonsult.se iCalcreator 2.14//
METHOD:PUBLISH
X-WR-CALNAME:Gratis-in-Berlin Tip Kalender
X-WR-CALDESC:Erhalte Gratis-in-Berlin Tips in deinem Kalender
BEGIN:VEVENT
UID:20260420T062902UTC-8152lCbhK8@Gratis-in-Berlin
DTSTAMP:20260420T062902Z
DESCRIPTION:Der Naturlehrpfad am südlichen Heidekampgraben soll erneuert werden.
  Mit Führungen und Mitmach-Angeboten wollen wir die Natur vor Ort erfassen und 
 ermitteln\, welche Themen die Anwohnenden und Nutzenden rund um die Naturo
 ase beschäftigen.Wir kochen wärmenden Punsch aus Wildfrüchten und basteln Musik-ins
 trumente aus Nussschalen.Treffpunkt: Vor Stadtteil-Kita High-Deck\, Michae
 l-Bohnen-Ring 18\, 12057 Berlinkostenfrei\, ohne Anmeldung.\n\nViel Spass 
 wünscht Gratis-in-Berlin\n\nLink zum Tip: https://www.gratis-in-berlin.de/kinde
 r-jugendliche/item/2064052-erntefest-am-heidekampgraben\nZu den Gratis-in-
 Berlin Angeboten: http://www.gratis-in-berlin.de\n
DTSTART;VALUE=DATE:20231124
DTEND;VALUE=DATE:20231125
SUMMARY:Erntefest am Heidekampgraben
END:VEVENT
END:VCALENDAR
