BEGIN:VCALENDAR
VERSION:2.0
PRODID:-//Gratis-in-Berlin//NONSGML kigkonsult.se iCalcreator 2.14//
METHOD:PUBLISH
X-WR-CALNAME:Gratis-in-Berlin Tip Kalender
X-WR-CALDESC:Erhalte Gratis-in-Berlin Tips in deinem Kalender
BEGIN:VEVENT
UID:20260420T080619UTC-33848Z4VJP@Gratis-in-Berlin
DTSTAMP:20260420T080619Z
DESCRIPTION:Die WILMA wird am Freitag\, den 10.11.\, zum sensorischen Zentr
 um der vorweihnachtlichen Genüsse. Die Bäcker-Innung Berlin veranstaltet ihre ren
 ommierte Stollenprüfung in den Räumlichkeiten des Einkaufszentrums. Ab 10:00 Uhr 
 sind alle Berlinerinnen und Berliner herzlich eingeladen\, die weihnachtli
 chen Delikatessen der teilnehmenden Innungsbetriebe zu probieren und sich 
 von der festlichen Atmosphäre in der Markthalle der Wilma im Untergeschoss d
 es Hauses inspirieren zu lassen.?Es ist uns eine Freude\, Gastgeber für die Bäcke
 r-Innung Berlin und ihre meisterhaften Kreationen zu sein. Mit dieser Vera
 nstaltung beginnt nicht nur offiziell die Weihnachtszeit\, sondern auch ei
 ne Zeit des gemeinsamen Genießens und Feierns?\, sagt Kim Reisen\, Centerma
 nagerin der WILMA. ?Besonders das Thema Genuss hat in der Wilma traditione
 ll einen hohen Stellenwert\, wie unsere Markthalle im Untergeschoss beweis
 t. Dort gibt es das ganze Jahr Köstlichkeiten zu probieren.?Die besten Stolle
 n erhalten bei der Prüfung die Bestnote ?sehr gut?. Bei drei aufeinanderfolgend
 en Bestnoten winkt die ?Gold-Auszeichnung? der Bäcker-Innung Berlin. Speziel
 l ausgebildete Prüfer bewerten die Stollen anhand einer Checkliste\, die Kriter
 ien wie Form\, Aussehen\, Oberflächen- und Krusteneigenschaften\, aber auch 
 Geruch und Geschmack umfasst. Diese Experten sind nicht nur Meister ihres 
 Fachs\, sondern durchlaufen auch regelmäßige Schulungen in Sensorik.2022 wur
 den 51 Stollen zur Prüfung abgegeben\, von denen 22 die Note ?sehr gut? und 28 
 die Bewertung ?gut? erhalten haben. Neben den offiziellen Prüfungen wird es abe
 r auch in diesem Jahr wieder einen ?Publikumsliebling? geben\, den die Bes
 ucherinnen und Besucher der WILMA wählen dürfen. Im letzten Jahr konnte sich der 
 Aprikosen-Erdbeer-Orangen-Stollen der Köpenicker Bäckerei &amp\; Konditorei Chr
 istian Scholz durchsetzen.Die Stollenprüfung der Bäcker-Innung Berlin findet am 1
 0. 11. 2023 von 10:00 bis 18:00 Uhr in der WILMA statt. Das Verkosten der 
 Stollen ist selbstverständlich kostenlos und bietet eine wunderbare Gelegenh
 eit\, sich auf die bevorstehende Weihnachtszeit einzustimmen.Über Unibail-R
 odamco-WestfieldUnibail-Rodamco-Westfield ist ein Eigentümer\, Entwickler und B
 etreiber von nachhaltigen\, hochwertigen Immobilien in den dynamischsten S
 tädten Europas und der USA.Die Gruppe betreibt 75 Shoppingcenter in 12 Ländern
 \, darunter 39 mit dem weltberühmten Westfield-Brand im Namen. Diese Center wer
 den jährlich über 900 Millionen Mal besucht und bieten Retailern und Marken eine 
 einzigartige Plattform\, um mit den Besucher:innen in Kontakt zu treten. I
 n Deutschland betreibt die Gruppe aktuell 20 Shoppingcenter\, davon acht i
 m eigenen Portfolio. URW verfügt zudem über ein Portfolio aus hochwertigen Büros\, zehn K
 ongress- und Ausstellungszentren in Paris und eine Projektentwicklungspipe
 line von drei Milliarden Euro mit hauptsächlich gemischt genutzten Assets. D
 erzeit besteht das Portfolio im Wert von 51 Milliarden Euro zu 87 % aus Ha
 ndelsimmobilien\, zu 6 % aus Büroimmobilien\, zu 5 % aus Kongress- und Ausstell
 ungszentren und zu 2 % aus Dienstleistungsflächen (Stand: 30. Juni 2023).URW
  ist ein engagierter Partner von Großstädten bei der Erneuerung und Modernisi
 erung urbaner Räume ? sowohl durch die Entwicklung von gemischt genutzten Im
 mobilien als auch bei der Nachrüstung von Gebäuden gemäß branchenführender Nachhaltigkei
 tsstandards. Dieses Engagement wird durch die 'Better Places 2030'-Agenda 
 der Gruppe verstärkt\, die darauf abzielt\, einen positiven ökologischen\, sozi
 alen und wirtschaftlichen Einfluss auf die Städte und Gemeinschaften zu erwi
 rken\, in denen URW tätig ist.URW ist an der Börse Euronext Paris (Ticker: URW)
  gelistet. Eine Zweitnotiz wurde in Australien durch ?Chess Depositary Int
 erests? eingerichtet. Die Gruppe genießt ein Rating in der Kategorie BBB+ b
 ei Standard &amp\; Poor?s und in der Kategorie Baa2 bei Moody?s.Weitere In
 formationen finden Sie unter: www.urw.com sowie www.unibail-rodamco-westfi
 eld.de\n\nViel Spass wünscht Gratis-in-Berlin\n\nLink zum Tip: \nZu den Gratis-
 in-Berlin Angeboten: http://www.gratis-in-berlin.de\n
DTSTART;VALUE=DATE:20231110
DTEND;VALUE=DATE:20231111
SUMMARY:Offizielle Stollenprüfung der Bäcker-Innung Berlin: Die WILMA läutet geschma
 cklich die Weihnachtszeit ein
END:VEVENT
END:VCALENDAR
