BEGIN:VCALENDAR
VERSION:2.0
PRODID:-//Gratis-in-Berlin//NONSGML kigkonsult.se iCalcreator 2.14//
METHOD:PUBLISH
X-WR-CALNAME:Gratis-in-Berlin Tip Kalender
X-WR-CALDESC:Erhalte Gratis-in-Berlin Tips in deinem Kalender
BEGIN:VEVENT
UID:20260420T062922UTC-5976T3pitN@Gratis-in-Berlin
DTSTAMP:20260420T062922Z
DESCRIPTION:Die First Nation Kwakwaka'wakw aus Kanada schnitzen seit jeher 
 Masken\, die sich öffnen lassen und so in verschiedene Tier- und Menschengesi
 chter verwandeln können.Welche Bedeutung haben sie? Wieso sind die Masken heu
 te wichtig? Ihr spürt den Geschichten der Masken nach und gestaltet selbst eige
 ne geheimnisvolle Masken aus Pappe und buntem Papier.- Kostenfrei- Sprache
 : Deutsch- Dauer: 180 Minuten- ab 6 Jahre und älter- Ort: Raum 212\n\nViel S
 pass wünscht Gratis-in-Berlin\n\nLink zum Tip: \nZu den Gratis-in-Berlin Angebo
 ten: http://www.gratis-in-berlin.de\n
DTSTART;VALUE=DATE:20240929
DTEND;VALUE=DATE:20240930
SUMMARY:Transformers - Baut eure eigene wandelbare Maske!
END:VEVENT
END:VCALENDAR
