BEGIN:VCALENDAR
VERSION:2.0
PRODID:-//Gratis-in-Berlin//NONSGML kigkonsult.se iCalcreator 2.14//
METHOD:PUBLISH
X-WR-CALNAME:Gratis-in-Berlin Tip Kalender
X-WR-CALDESC:Erhalte Gratis-in-Berlin Tips in deinem Kalender
BEGIN:VEVENT
UID:20260420T141932UTC-8900UWKwNR@Gratis-in-Berlin
DTSTAMP:20260420T141932Z
DESCRIPTION:Die Fernrohre liegen für Euch bereit! So lassen sich buntes Treiben 
 im Schlüterhof und seine faszinierende Architektur von unserem Fenster aus ganz
  genau betrachten. Inspiriert von diesem Fensterblick gestaltet Ihr Euer e
 igenes Phantasiegebäude als Bühne mit bewegbaren Figuren.Zur Umsetzung erhalten a
 lle Teilnehmer*innen einen Papierbogen\, historische Bildvorlagen und bunt
 es Kreativmaterial. Das neu entstandene Papiertheater lässt sich falten und 
 mit nach Hause nehmen.Sprache: in Deutsch\, keine Sprachkenntnisse erforde
 rlichkostenfreiDauer: 180 MinutenOrt: Werkraum 2\, 1.OG\n\nViel Spass wünscht G
 ratis-in-Berlin\n\nLink zum Tip: \nZu den Gratis-in-Berlin Angeboten: http
 ://www.gratis-in-berlin.de\n
DTSTART;VALUE=DATE:20250202
DTEND;VALUE=DATE:20250203
SUMMARY:Fensterblick. Genau gesehen ist es mehr! Drop-In 
END:VEVENT
END:VCALENDAR
