BEGIN:VCALENDAR
VERSION:2.0
PRODID:-//Gratis-in-Berlin//NONSGML kigkonsult.se iCalcreator 2.14//
METHOD:PUBLISH
X-WR-CALNAME:Gratis-in-Berlin Tip Kalender
X-WR-CALDESC:Erhalte Gratis-in-Berlin Tips in deinem Kalender
BEGIN:VEVENT
UID:20260422T083639UTC-3058EdU40E@Gratis-in-Berlin
DTSTAMP:20260422T083639Z
DESCRIPTION:Zum kreativen Gestalten von ungewöhnlichen Karten stehen im WELTST
 UDIO drei raumgreifende Kartographen bereit: der Personenkartograph\, der 
 Fadenkartograph und der Kugelkartograph. Hier entstehen Karten aus Fäden\, r
 iesige Poster mit individuellen Geschichten zur Welt und kleine Weganleitu
 ngen zu Lieblingsorten.Es wird gemeinsam kreativ gebaut\, gewebt\, gezeich
 net\, gestempelt und vieles mehr. Karten zu erstellen wird in einer Art un
 d Weise in Frage gestellt\, die sowohl Erwachsenen als auch Kindern gleich
 ermaßen Spaß macht.Die Installationen selbst ausprobieren\, neue Karten gest
 alten\, mehr über Methoden der kritischen Kartographie erfahren oder in lockere
 r Atmosphäre miteinander ins Gespräch kommen ? die Türen des WELTSTUDIOS stehen all
 en Interessierten jeden Alters offen.Sprachen: Deutsch\, Englisch. Keine S
 prachkenntnisse erforderlichDauer: 180 MinutenEintritt frei plus Ausstellu
 ngsgebühr (ermäßigt 0 Euro)Ort: Weltstudio\n\nViel Spass wünscht Gratis-in-Berlin\n\nL
 ink zum Tip: \nZu den Gratis-in-Berlin Angeboten: http://www.gratis-in-ber
 lin.de\n
DTSTART;VALUE=DATE:20231216
DTEND;VALUE=DATE:20231217
SUMMARY:Berlin Global Das Weltstudio lädt ein. Karten mal ganz anders. Drop-I
 n
END:VEVENT
END:VCALENDAR
