BEGIN:VCALENDAR
VERSION:2.0
PRODID:-//Gratis-in-Berlin//NONSGML kigkonsult.se iCalcreator 2.14//
METHOD:PUBLISH
X-WR-CALNAME:Gratis-in-Berlin Tip Kalender
X-WR-CALDESC:Erhalte Gratis-in-Berlin Tips in deinem Kalender
BEGIN:VEVENT
UID:20260420T113328UTC-5883R2rWgw@Gratis-in-Berlin
DTSTAMP:20260420T113328Z
DESCRIPTION:Geschichten von Trickster-Figuren gibt es auf allen Kontinenten
 . Viele Objekte des Ethnologischen Museums thematisieren diese Tierwesen\,
  wie z.B. die schlaue Spinne Anansi oder den klugen Hornvogel.Trickster ha
 ndeln trickreich\, unerwartet oder heldenhaft! Ihr lasst euch inspirieren 
 und gestaltet eigene Trickster. Der Einstieg ist jederzeit möglich.kostenfrei
  Sprachen: Deutsch\, Englisch Raum 217Gehört zu: Ethnologisches Museum und Mu
 seum für Asiatische KunstTreffpunkt &amp\; Uhrzeit: Den Treffpunkt für Führungen und
  den Ort für Workshops finden Sie auf Ihrer Buchungsbestätigung. Damit die Führung pünktlic
 h beginnen kann\, bitten wir Sie\, 15 Minuten vor Programmbeginn im Humbol
 dt Forum einzutreffen. Berücksichtigen Sie bitte unbedingt diese zusätzliche Vier
 telstunde bei Ihrer Planung. Vielen Dank!\n\nViel Spass wünscht Gratis-in-Berli
 n\n\nLink zum Tip: \nZu den Gratis-in-Berlin Angeboten: http://www.gratis-
 in-berlin.de\n
DTSTART;VALUE=DATE:20231223
DTEND;VALUE=DATE:20231224
SUMMARY:Trickster\, Tierwesen und Gestaltenwandler. Drop-In
END:VEVENT
END:VCALENDAR
