BEGIN:VCALENDAR
VERSION:2.0
PRODID:-//Gratis-in-Berlin//NONSGML kigkonsult.se iCalcreator 2.14//
METHOD:PUBLISH
X-WR-CALNAME:Gratis-in-Berlin Tip Kalender
X-WR-CALDESC:Erhalte Gratis-in-Berlin Tips in deinem Kalender
BEGIN:VEVENT
UID:20260420T172518UTC-5105uwvAC9@Gratis-in-Berlin
DTSTAMP:20260420T172518Z
DESCRIPTION:Mit Franziska Biermann &amp\; Tara Bredemeier.Herr Fuchs tanzt 
 Bücher!HÄ? Büchertanzen geht nicht? Doch\, das geht! Das zeigen die Autorin Franziska
  Biermann und die Tänzerin Tara Bredemeier. Zuerst gibt es eine Lesung aus ?
 Herr Fuchs mag Bücher? und dann Bewegung!Tanzt du mit?Weitere Infos:&nbsp\;Für Kinde
 r ab 6 Jahre.&nbsp\;Ohne Anmeldung. Im PopUp an der Amerika-Gedenkbiblioth
 ek.Illustration&nbsp\;© Franziska Biermann\n\nViel Spass wünscht Gratis-in-Berli
 n\n\nLink zum Tip: \nZu den Gratis-in-Berlin Angeboten: http://www.gratis-
 in-berlin.de\n
DTSTART;VALUE=DATE:20231118
DTEND;VALUE=DATE:20231119
SUMMARY:Herr Fuchs tanzt Bücher! | Lesung & Bewegung für Familien
END:VEVENT
END:VCALENDAR
