BEGIN:VCALENDAR
VERSION:2.0
PRODID:-//Gratis-in-Berlin//NONSGML kigkonsult.se iCalcreator 2.14//
METHOD:PUBLISH
X-WR-CALNAME:Gratis-in-Berlin Tip Kalender
X-WR-CALDESC:Erhalte Gratis-in-Berlin Tips in deinem Kalender
BEGIN:VEVENT
UID:20260420T143243UTC-6307BVulFH@Gratis-in-Berlin
DTSTAMP:20260420T143243Z
DESCRIPTION:Der 17. November ist der bundesweite Vorlesetag der Deutschen S
 tiftung Lesen e. V. Die Spandau Arcaden richten extra für diesen Tag eine gemütliche
  Vorleselounge ein und lassen dort grandiose Stimmen Kindern aus dem Kiez 
 vorlesen. Am Vormittag sind Kitagruppen eingeladen\, am Nachmittag ist die
  Lounge offen für alle Kinder. Mit dabei sind unter anderem Susanna Bonasévicz\, 
 die Stimme von Bibi Blocksberg\, Ranja Bonalana\, die Stimme von Rene Zell
 weger und Reese Witherspoon\, der Schauspieler Roman Shamov\, Radiomann Sv
 en Oswald und Spandaus Bezirksbürgermeister Frank Bewig.?Leider lesen in stress
 igen und digitalen Zeiten wie diesen immer weniger Eltern ihren Kindern vo
 r. Die Deutsche Stiftung Lesen setzt mit dem bundesweiten Vorlesetag ein w
 ichtiges Zeichen\, und wir sind sehr gerne dabei!?\, erklärt Oliver Heuchert
 \, der Centermanager der Spandau Arcaden.Die Vorleselounge im ersten OG de
 r Spandau Arcaden öffnet am 17. November in der Zeit von 10:00 bis 12:00 Uhr 
 ihre Türen für angemeldete Kitagruppen. Am Nachmittag ist die Lounge zwischen 15:00 
 und 18:00 Uhr für alle Kinder geöffnet.Alle beteiligten Vorleserinnen und Vorleser
  freuen sich sehr auf diesen Tag. Der Berliner Schauspieler Roman Shamov k
 ommt direkt vor seiner Aufführung von ?Die Wolkenpumpe? im Köpenicker Schlossplatz
 theater in den Spandau Arcaden vorbei\, um ein Stündchen vorzulesen. Auch Radio
 -Teddy-Moderatorin Isabelle Ihden kommt gleich zum Start vorbei\, ihre Rad
 iosendung beginnt erst am Nachmittag. Spandaus Bezirksbürgermeister Frank Bewig
  war sofort Feuer und Flamme und wird ebenfalls am Vormittag vorlesen. Die
  beiden Synchron-Ikonen Susanna Bonasévicz und Ranja Bonalana leiten den Nac
 hmittag ein.Gelesen werden Ausschnitte aus Büchern\, die von der Deutschen Stif
 tung Lesen für den Vorlesetag empfohlen wurden. Mit dabei Geschichten über Spinnen\,
  Monster und Märchen. Die Lesungen sind jeweils ca. 25 Minuten lang\, alle h
 albe Stunde wechseln dann Publikum und Vorlesende.Über Unibail-Rodamco-West
 field:Unibail-Rodamco-Westfield ist ein Eigentümer\, Entwickler und Betreiber v
 on nachhaltigen\, hochwertigen Immobilien in den dynamischsten Städten Europ
 as und der USA. Die Gruppe betreibt 75 Shoppingcenter in 12 Ländern\, darunt
 er 39 mit dem weltberühmten Westfield-Brand im Namen. Diese Center werden jährlic
 h über 900 Millionen Mal besucht und bieten Retailern und Marken eine einzigart
 ige Plattform\, um mit den Besucher:innen in Kontakt zu treten. In Deutsch
 land betreibt die Gruppe aktuell 20 Shoppingcenter\, davon acht im eigenen
  Portfolio. URW verfügt zudem über ein Portfolio aus hochwertigen Büros\, zehn Kongress- 
 und Ausstellungszentren in Paris und eine Projektentwicklungspipeline von 
 drei Milliarden Euro mit hauptsächlich gemischt genutzten Assets. Derzeit be
 steht das Portfolio im Wert von 51 Milliarden Euro zu 87 % aus Handelsimmo
 bilien\, zu 6 % aus Büroimmobilien\, zu 5 % aus Kongress- und Ausstellungszentr
 en und zu 2 % aus Dienstleistungsflächen (Stand: 30. Juni 2023).URW ist ein 
 engagierter Partner von Großstädten bei der Erneuerung und Modernisierung urb
 aner Räume ? sowohl durch die Entwicklung von gemischt genutzten Immobilien 
 als auch bei der Nachrüstung von Gebäuden gemäß branchenführender Nachhaltigkeitsstandar
 ds. Dieses Engagement wird durch die 'Better Places 2030'-Agenda der Grupp
 e verstärkt\, die darauf abzielt\, einen positiven ökologischen\, sozialen und 
 wirtschaftlichen Einfluss auf die Städte und Gemeinschaften zu erwirken\, in
  denen URW tätig ist.URW ist an der Börse Euronext Paris (Ticker: URW) gelistet
 . Eine Zweitnotiz wurde in Australien durch ?Chess Depositary Interests? e
 ingerichtet. Die Gruppe genießt ein Rating in der Kategorie BBB+ bei Standa
 rd &amp\; Poor?s und in der Kategorie Baa2 bei Moody?s.Weitere Information
 en finden Sie unter: www.urw.com sowie www.unibail-rodamco-westfield.deSpa
 ndau ArcadenBei 125 Shops auf vier Ebenen: in den Spandau Arcaden bleiben 
 keine Shoppingwünsche offen. Ob große Marken wie H&amp\;M\, dm\, P&amp\;C und Th
 alia oder kleine\, feine Läden wie Rituals oder Pandora ? wir machen Ihren S
 hoppingtag zu einem Erlebnis. In Berlin-Spandau zu Hause\, ist das Einkauf
 szentrum leicht zu erreichen und bietet alles für ein perfektes Shoppingvergnügen. V
 iele Parkplätze\, namhafte nationale und internationale Marken sowie ein gro
 ßes gastronomisches Angebot und umfangreiche Services wie Kundeninformation
 \, kostenloses WLAN\, hochwertige WC-Anlagen mit Babywickelraum und exklus
 ive Geschenkkarten machen das Einkaufen in den Spandau Arcaden zu einem be
 sonderen Erlebnis. Für mehr Informationen besuchen Sie bitte unsere Homepage un
 ter www.spandau-arcaden.de. Die Spandau Arcaden werden von der Unibail-Rod
 amco Germany GmbH betrieben.\n\nViel Spass wünscht Gratis-in-Berlin\n\nLink zum
  Tip: \nZu den Gratis-in-Berlin Angeboten: http://www.gratis-in-berlin.de
 \n
DTSTART;VALUE=DATE:20231117
DTEND;VALUE=DATE:20231118
SUMMARY:Bundesweiter Vorlesetag mit prominenten Lesern in den Spandau Arcad
 en
END:VEVENT
END:VCALENDAR
