BEGIN:VCALENDAR
VERSION:2.0
PRODID:-//Gratis-in-Berlin//NONSGML kigkonsult.se iCalcreator 2.14//
METHOD:PUBLISH
X-WR-CALNAME:Gratis-in-Berlin Tip Kalender
X-WR-CALDESC:Erhalte Gratis-in-Berlin Tips in deinem Kalender
BEGIN:VEVENT
UID:20260420T062918UTC-30594pldUg@Gratis-in-Berlin
DTSTAMP:20260420T062918Z
DESCRIPTION:Was aber Digitalisierung beim Lernen angeht\, können sich viele Er
 wachsene\, besonders die Eltern\, nicht genau vorstellen\, wie die Kinder 
 digital lernen und eigenes Potenzial entdecken können: Kann man mit Apps erns
 thaft lernen? Welche digitalen Medien helfen dem Kind besser zu lernen? Wi
 e geht das Lernen mit Apps und welche sind dafür am besten geeignet? Geht das überha
 upt?Das geht wunderbar! Nämlich digitale Technologien ermöglichen es\, das Lern
 en noch besser zu gestalten: mit animierten Apps lernen die Kinder (auch d
 ie Erwachsenen) spielerisch und effektiv\, sie sind aufmerksam und motivie
 rt. Dann noch ist das Lernen mobil\, kreativ und interaktiv!Kostenfreier W
 orkshop ohne Anmeldung.Im Rahmen der verlängerten Bibliotheksöffnungszeiten. Er
 möglicht durch das Netzwerk der Wärme. Das Netzwerk der Wärme ist initiiert und f
 inanziert vom Berliner Senat.\n\nViel Spass wünscht Gratis-in-Berlin\n\nLink zu
 m Tip: \nZu den Gratis-in-Berlin Angeboten: http://www.gratis-in-berlin.de
 \n
DTSTART;VALUE=DATE:20231202
DTEND;VALUE=DATE:20231203
SUMMARY: Workshop I Creative Techlab: Familienworkshop
END:VEVENT
END:VCALENDAR
