BEGIN:VCALENDAR
VERSION:2.0
PRODID:-//Gratis-in-Berlin//NONSGML kigkonsult.se iCalcreator 2.14//
METHOD:PUBLISH
X-WR-CALNAME:Gratis-in-Berlin Tip Kalender
X-WR-CALDESC:Erhalte Gratis-in-Berlin Tips in deinem Kalender
BEGIN:VEVENT
UID:20260420T094354UTC-8688RTBHgj@Gratis-in-Berlin
DTSTAMP:20260420T094354Z
DESCRIPTION:Wir basteln Sterne aus Alu.Kostenfreier Workshop ohne Anmeldung
  in der&nbsp\;Bodo-Uhse-Bibliothek.Im Rahmen der verlängerten Bibliotheksöffnun
 gszeiten. Ermöglicht durch das Netzwerk der Wärme. Das Netzwerk der Wärme ist ini
 tiiert und finanziert vom Berliner Senat.\n\nViel Spass wünscht Gratis-in-Berli
 n\n\nLink zum Tip: \nZu den Gratis-in-Berlin Angeboten: http://www.gratis-
 in-berlin.de\n
DTSTART;VALUE=DATE:20231202
DTEND;VALUE=DATE:20231203
SUMMARY: Workshop I Weihnachtsschmuck aus Teelichtern
END:VEVENT
END:VCALENDAR
