BEGIN:VCALENDAR
VERSION:2.0
PRODID:-//Gratis-in-Berlin//NONSGML kigkonsult.se iCalcreator 2.14//
METHOD:PUBLISH
X-WR-CALNAME:Gratis-in-Berlin Tip Kalender
X-WR-CALDESC:Erhalte Gratis-in-Berlin Tips in deinem Kalender
BEGIN:VEVENT
UID:20260420T173943UTC-0798XedfPz@Gratis-in-Berlin
DTSTAMP:20260420T173943Z
DESCRIPTION:Lustige und besinnliche Geschichten für Kinder und ihren FamilienHeu
 te holen wir die Sterne vom Himmel\, begleiten den Mond auf seinem nächtlich
 en Weg und retten die Sonne aus den Fängen eines Jägers. Lauscht den Geschicht
 en und helft der Prinzessin die Sonne in den Palast zu holen ? gemeinsam s
 chaffen wir das!Nicola Knappe nimmt Euch mit auf eine abenteuerliche Märchen
 reise von Berlin bis in die Weiten des Himmels.Kostenfreie Veranstaltung o
 hne Anmeldung in der&nbsp\;Anton-Saefkow-Bibliothek.Im Rahmen der verlängert
 en Bibliotheksöffnungszeiten. Ermöglicht durch das Netzwerk der Wärme. Das Netzwer
 k der Wärme ist initiiert und finanziert vom Berliner Senat.\n\nViel Spass w
 ünscht Gratis-in-Berlin\n\nLink zum Tip: \nZu den Gratis-in-Berlin Angeboten: h
 ttp://www.gratis-in-berlin.de\n
DTSTART;VALUE=DATE:20231203
DTEND;VALUE=DATE:20231204
SUMMARY:Erzähltheater I Nicola Knappe: Sonne\, Mond und Sterne ?und eine klei
 ne Laterne
END:VEVENT
END:VCALENDAR
