BEGIN:VCALENDAR
VERSION:2.0
PRODID:-//Gratis-in-Berlin//NONSGML kigkonsult.se iCalcreator 2.14//
METHOD:PUBLISH
X-WR-CALNAME:Gratis-in-Berlin Tip Kalender
X-WR-CALDESC:Erhalte Gratis-in-Berlin Tips in deinem Kalender
BEGIN:VEVENT
UID:20260422T083639UTC-6878jRXANH@Gratis-in-Berlin
DTSTAMP:20260422T083639Z
DESCRIPTION:Offener Workshop mit Asja BonitzKostenfreier Workshop ohne Anme
 ldung in der&nbsp\;Egon-Erwin-Kisch-BibliothekIm Rahmen der verlängerten Bib
 liotheksöffnungszeiten. Ermöglicht durch das Netzwerk der Wärme. Das Netzwerk der 
 Wärme ist initiiert und finanziert vom Berliner Senat.\n\nViel Spass wünscht Grat
 is-in-Berlin\n\nLink zum Tip: \nZu den Gratis-in-Berlin Angeboten: http://
 www.gratis-in-berlin.de\n
DTSTART;VALUE=DATE:20231209
DTEND;VALUE=DATE:20231210
SUMMARY:Workshop I Holzanhänger als Baumschmuck basteln
END:VEVENT
END:VCALENDAR
