BEGIN:VCALENDAR
VERSION:2.0
PRODID:-//Gratis-in-Berlin//NONSGML kigkonsult.se iCalcreator 2.14//
METHOD:PUBLISH
X-WR-CALNAME:Gratis-in-Berlin Tip Kalender
X-WR-CALDESC:Erhalte Gratis-in-Berlin Tips in deinem Kalender
BEGIN:VEVENT
UID:20260422T083526UTC-4123vGNspt@Gratis-in-Berlin
DTSTAMP:20260422T083526Z
DESCRIPTION:Ein alter Bambussammler findet ein winziges Wesen und zieht es 
 zusammen mit seiner Frau auf.Musikalische Gestaltung: Yusuke Yamasaki\, Er
 zählerin: Karin HenkesFür alle ab 6 JahrenKostenfreie Veranstaltung ohne Anmeldun
 g in der&nbsp\;Anna-Seghers-Bibliothek im Linden-Center.Im Rahmen der verl
 ängerten Bibliotheksöffnungszeiten. Ermöglicht durch das Netzwerk der Wärme. Das Net
 zwerk der Wärme ist initiiert und finanziert vom Berliner Senat.\n\nViel Spa
 ss wünscht Gratis-in-Berlin\n\nLink zum Tip: \nZu den Gratis-in-Berlin Angebote
 n: http://www.gratis-in-berlin.de\n
DTSTART;VALUE=DATE:20231216
DTEND;VALUE=DATE:20231217
SUMMARY:Musikalische Erzählung I Prinzessin Kaguya und der alte Bambussammler
END:VEVENT
END:VCALENDAR
