BEGIN:VCALENDAR
VERSION:2.0
PRODID:-//Gratis-in-Berlin//NONSGML kigkonsult.se iCalcreator 2.14//
METHOD:PUBLISH
X-WR-CALNAME:Gratis-in-Berlin Tip Kalender
X-WR-CALDESC:Erhalte Gratis-in-Berlin Tips in deinem Kalender
BEGIN:VEVENT
UID:20260420T143245UTC-3623MbFTdf@Gratis-in-Berlin
DTSTAMP:20260420T143245Z
DESCRIPTION:Für alle Minecraft-Fans\, Bastler*innen und Spielebegeisterten zwisc
 hen 8-14 Jahre! Wir treffen uns\, um Figuren und Items aus der Minecraft W
 elt in Echt kreativ zu gestalten. Diesmal backen wir leckere Minecraft Plätz
 chen! Die Teilnahme ist kostenlos.&nbsp\;Wo: JFE Villa Pelikan\, Hellersdo
 rfer Straße 27\, 12621 BerlinMehr Infos: https://waldritter-berlin.de/2023/
 04/23/minecraft-in-echt-kreativ-nachmittage/\n\nViel Spass wünscht Gratis-in-Be
 rlin\n\nLink zum Tip: \nZu den Gratis-in-Berlin Angeboten: http://www.grat
 is-in-berlin.de\n
DTSTART;VALUE=DATE:20231206
DTEND;VALUE=DATE:20231207
SUMMARY:Minecraft in Echt Kreativnachmittag ? Plätzchen backen
END:VEVENT
END:VCALENDAR
