BEGIN:VCALENDAR
VERSION:2.0
PRODID:-//Gratis-in-Berlin//NONSGML kigkonsult.se iCalcreator 2.14//
METHOD:PUBLISH
X-WR-CALNAME:Gratis-in-Berlin Tip Kalender
X-WR-CALDESC:Erhalte Gratis-in-Berlin Tips in deinem Kalender
BEGIN:VEVENT
UID:20260424T100158UTC-7378zi4UfN@Gratis-in-Berlin
DTSTAMP:20260424T100158Z
DESCRIPTION:Ukrainische Märchen mit Live-Musik und Gesang ? vorgetragen von d
 er Schauspielerin und Sängerin der Band Mavka: Iryna Lazer.Gemeinsam mit den
  Kindern werden verschiedene Geräusche mit der Loop-Machine aufgenommen und 
 zu einem märchenhaften Klangteppich verwoben. Die Loop-Machine ist ein Musik
 instrument\, mit dem Geräusche aufgenommen werden können und die Aufnahme sofor
 t im Loop abspielt. Nach der Lesung machen wir uns mit Musik-\, Rhythmus- 
 und Stimmübungen locker\, um gemeinsam zu singen.- Sprachen: Deutsch und Ukrain
 isch- ohne Voranmeldung- Eintritt frei- Altersempfehlung: ab 4 Jahren\n\nV
 iel Spass wünscht Gratis-in-Berlin\n\nLink zum Tip: https://www.gratis-in-berli
 n.de/kinder-jugendliche/item/2064287-mavkas-maerchen\nZu den Gratis-in-Ber
 lin Angeboten: http://www.gratis-in-berlin.de\n
DTSTART;VALUE=DATE:20231216
DTEND;VALUE=DATE:20231217
SUMMARY:Mavkas Märchen
END:VEVENT
END:VCALENDAR
