BEGIN:VCALENDAR
VERSION:2.0
PRODID:-//Gratis-in-Berlin//NONSGML kigkonsult.se iCalcreator 2.14//
METHOD:PUBLISH
X-WR-CALNAME:Gratis-in-Berlin Tip Kalender
X-WR-CALDESC:Erhalte Gratis-in-Berlin Tips in deinem Kalender
BEGIN:VEVENT
UID:20260420T064154UTC-2921fxNFvU@Gratis-in-Berlin
DTSTAMP:20260420T064154Z
DESCRIPTION:mit der Tänzerin Johanna Aulikki Svensson Kommt mit uns auf eine 
 musikalische Reise und tanzt mit Johanna durch den nordischen Winterzauber
 ! Wir lesen die Geschichte ?Ein wunderbarer Weihnachtswunsch? von Lori Eve
 rt und Per Breiehagen vor\, die wir mit Musik untermalen und laden Kinder 
 dazu ein sich zu den Klängen zu bewegen und zu tanzen.Dieses Projekt ist ein
 e Initiative von Music Family Hub aus Berlin-Friedrichshain\, die sich für mehr
  Vereinbarkeit von Familie und Beruf einsetzt.Im 2. und 3. Stock stehen El
 tern Workspaces zur Verfügung. Nach dem Bilderbuchkino gibt es die Möglichkeit den
  Nachmittag mit gemeinsamen Netzwerken ausklingen zu lassen.- 16:30 ? 17:3
 0 Uhr- Werkraum der Bezirkszentralbibliothek Pablo Neruda- Alter: 3 bis 10
  Jahre- Eintritt frei- ohne VoranmeldungWeitere Termine Musikalisches Bild
 buchkino:Freitag 05.01.2024\, 16:30 ? 17:30 UhrFreitag 02.02.2024\, 16:30 
 ? 17:30 UhrFreitag 01.03.2024\, 16:30 ? 17:30 UhrInitiiert von Music Famil
 y Hub\n\nViel Spass wünscht Gratis-in-Berlin\n\nLink zum Tip: \nZu den Gratis-i
 n-Berlin Angeboten: http://www.gratis-in-berlin.de\n
DTSTART;VALUE=DATE:20231201
DTEND;VALUE=DATE:20231202
SUMMARY:?Ein wunderbarer Weihnachtswunsch? ? Bilderbuchkino mit Musik & Tan
 z
END:VEVENT
END:VCALENDAR
