BEGIN:VCALENDAR
VERSION:2.0
PRODID:-//Gratis-in-Berlin//NONSGML kigkonsult.se iCalcreator 2.14//
METHOD:PUBLISH
X-WR-CALNAME:Gratis-in-Berlin Tip Kalender
X-WR-CALDESC:Erhalte Gratis-in-Berlin Tips in deinem Kalender
BEGIN:VEVENT
UID:20260420T080618UTC-3361UTBMdc@Gratis-in-Berlin
DTSTAMP:20260420T080618Z
DESCRIPTION:Das Berliner Puppentheater spielt wieder in den Reinickendorfer
  Bibliotheken !Termine:Freitag\, 01.12.2023\, 16 Uhr in der Stadtteilbibli
 othek Reinickendorf-West (Auguste-Viktoria-Allee 29-31\, 13403 Berlin) ? E
 intritt frei ? Ab 4 Jahren. Freitag\, 08.12.2023\, 16 Uhr: Weihnachtlicher
  Nachmittag in der Humboldt-Bibliothek mit ?Rudolph mit der roten Nase? vo
 m Berliner Puppentheater (Karolinenstr. 19\, 13507 Berlin) ? Eintritt frei
  ? Das Theaterstück ist geeignet für Kinder ab 4 Jahren.Inkl. Einstimmung auf die We
 ihnachtszeit mit Tee\, Keksen und Bastelangeboten!Mittwoch\, 13.12.2023\, 
 16 Uhr in der Bibliothek im Märkischen Viertel (Fontane Haus) (Wilhelmsruher
  Damm 142c\, 13439 Berlin) ? Eintritt frei ? Ab 4 Jahren.\n\nViel Spass wünscht
  Gratis-in-Berlin\n\nLink zum Tip: \nZu den Gratis-in-Berlin Angeboten: ht
 tp://www.gratis-in-berlin.de\n
DTSTART;VALUE=DATE:20231101
DTEND;VALUE=DATE:20231114
SUMMARY:'Rudolph mit der roten Nase' mit dem Berliner Puppentheater
END:VEVENT
END:VCALENDAR
