BEGIN:VCALENDAR
VERSION:2.0
PRODID:-//Gratis-in-Berlin//NONSGML kigkonsult.se iCalcreator 2.14//
METHOD:PUBLISH
X-WR-CALNAME:Gratis-in-Berlin Tip Kalender
X-WR-CALDESC:Erhalte Gratis-in-Berlin Tips in deinem Kalender
BEGIN:VEVENT
UID:20260422T115150UTC-48359zmVOb@Gratis-in-Berlin
DTSTAMP:20260422T115150Z
DESCRIPTION:Für Kinder und deren Begleitung ist der Eintritt den&nbsp\;ganzen Ta
 g frei.'Unseren ersten »PlayDay« widmen wir Ton und Geräuschen im Film ? er he
 ißt »Film im Ohr«. Auf verschiedenen Etagen des Museums findet ihr ein spanne
 ndes\, geräuschvolles Angebot zum Entdecken\, Mitmachen und Lauschen oder ei
 nfach\, um gute Filme zu schauen.'Textquelle und Programm: Website\n\nViel
  Spass wünscht Gratis-in-Berlin\n\nLink zum Tip: \nZu den Gratis-in-Berlin Ange
 boten: http://www.gratis-in-berlin.de\n
DTSTART;VALUE=DATE:20231125
DTEND;VALUE=DATE:20231126
SUMMARY:PlayDay im Filmmuseum (für Kinder & Begleitung)
END:VEVENT
END:VCALENDAR
