BEGIN:VCALENDAR
VERSION:2.0
PRODID:-//Gratis-in-Berlin//NONSGML kigkonsult.se iCalcreator 2.14//
METHOD:PUBLISH
X-WR-CALNAME:Gratis-in-Berlin Tip Kalender
X-WR-CALDESC:Erhalte Gratis-in-Berlin Tips in deinem Kalender
BEGIN:VEVENT
UID:20260419T122618UTC-9549OSRavU@Gratis-in-Berlin
DTSTAMP:20260419T122618Z
DESCRIPTION:Jeden ersten Sonntag im Monat findet im Museum Lichtenberg ein 
 Kreativ-Workshop statt\, bei dem alle ihrer Fantasie freien Lauf lassen könne
 n: basteln\, malen\, Klebeband und Farbwirbel ausprobieren\, mal auf der S
 chreibmaschine tippen... Außerdem gibt es spannende Führungen durch die Daueraus
 stellung\, die Inspiration geben können. Abb.: Zeichnung: Hanna Zeckau\, Graf
 ik: Museum Lichtenberg\n\nViel Spass wünscht Gratis-in-Berlin\n\nLink zum Tip: 
 \nZu den Gratis-in-Berlin Angeboten: http://www.gratis-in-berlin.de\n
DTSTART;VALUE=DATE:20251102
DTEND;VALUE=DATE:20251103
SUMMARY:Kreativ-Workshop im Museum Lichtenberg 
END:VEVENT
END:VCALENDAR
