BEGIN:VCALENDAR
VERSION:2.0
PRODID:-//Gratis-in-Berlin//NONSGML kigkonsult.se iCalcreator 2.14//
METHOD:PUBLISH
X-WR-CALNAME:Gratis-in-Berlin Tip Kalender
X-WR-CALDESC:Erhalte Gratis-in-Berlin Tips in deinem Kalender
BEGIN:VEVENT
UID:20260419T133443UTC-5102ZpVOWw@Gratis-in-Berlin
DTSTAMP:20260419T133443Z
DESCRIPTION:Bauen\, Programmieren\, Ausprobieren!Lerne beim Tüftel-Samstag in de
 r Humboldt-Bibliothek den kreativen Umgang mit Technik.Außerdem basteln wir
  mit Elektronik\, erstellen Stromkreise mit einfachen Materialien wie LEDs
  und leitendem Klebeband und bringen Papierautos\, Häuser\, Insekten und vie
 les mehr zum Leuchten.Mit wechselnden Themen!Diesmal: Stop Motion. Bring d
 eine gebastelten Figuren vor einer passenden Kulisse zum Tanzen und drehe 
 einen eigenen Trickfilm.Das Angebot richtet sich an Kinder zwischen 6 und 
 12 Jahren.Die Teilnahme ist kostenfrei. Ohne vorherige Anmeldung.\n\nViel 
 Spass wünscht Gratis-in-Berlin\n\nLink zum Tip: \nZu den Gratis-in-Berlin Angeb
 oten: http://www.gratis-in-berlin.de\n
DTSTART;VALUE=DATE:20240511
DTEND;VALUE=DATE:20240512
SUMMARY:Tüftel-Samstag in der Humboldt-Bibliothek
END:VEVENT
END:VCALENDAR
