BEGIN:VCALENDAR
VERSION:2.0
PRODID:-//Gratis-in-Berlin//NONSGML kigkonsult.se iCalcreator 2.14//
METHOD:PUBLISH
X-WR-CALNAME:Gratis-in-Berlin Tip Kalender
X-WR-CALDESC:Erhalte Gratis-in-Berlin Tips in deinem Kalender
BEGIN:VEVENT
UID:20260419T132345UTC-4461icHmve@Gratis-in-Berlin
DTSTAMP:20260419T132345Z
DESCRIPTION:Zwei Nachmittage mit ZULA\, Black Dads Germany und dem Zuckersüßverl
 ag: Eltern und Kinder sind eingeladen\, um mit uns den Pride Month\, Vielf
 alt und Inklusion zu feiern! Wir lesen aus dem Buch ?Mama und Mami und ich
 : Die große Vermissung? vor\, malen mit euch und haben auch Geschenke dabei
 !Zum Buch:Michael L. Printz Award-Preisträgerin Nina LaCour erzählt mit ?Mama 
 und Mami und ich: Die große Vermissung? die berührende Geschichte eines Kindes\,
  das einen Elternteil im Familienalltag vermisst.Für dieses kleine Mädchen gibt e
 s keinen besseren Ort auf der Welt\, als den zwischen Mami und Mama. Doch 
 dann muss Mami für eine ganze Woche verreisen. Der Platz am Familientisch bleib
 t leer und die große Vermissung beginnt. Egal\, wie sehr sich Mama um Ablen
 kung bemüht\, der Trennungsschmerz wird für das Mädchen bald so tief wie der Ozean und
  so hoch wie die Sterne am Himmel. Doch dann haben Mutter und Tochter eine
  Idee\, wie sie sich voller Liebe auf das Wiedersehen vorbereiten können...An
 schließend gibt es einen Maltisch für euch und wir verteilen kleine Buch-Geschen
 ke. Wir freuen uns sehr auf euch!6. und 13. Juli 2024 // jeweils 14-16 Uhr
 - Mittelpunktbibliothek Wilhelm Liebknecht / Namik Kemal- Eintritt frei- F
 ür Kinder ab drei Jahren- Ohne VoranmeldungDies ist eine Zusammenarbeit zwische
 n: Black Dads Germany ? ZULA ? Mittelpunktbibliothek Wilhelm Liebknecht / 
 Namik Kemal und Zuckersüßverlag.\n\nViel Spass wünscht Gratis-in-Berlin\n\nLink zum 
 Tip: https://www.gratis-in-berlin.de/kalender/item/2067453-kids-parents-ce
 lebrate-pride-month\nZu den Gratis-in-Berlin Angeboten: http://www.gratis-
 in-berlin.de\n
DTSTART;VALUE=DATE:20240706
DTEND;VALUE=DATE:20240707
SUMMARY:Kids & parents celebrate Pride Month
END:VEVENT
END:VCALENDAR
