BEGIN:VCALENDAR
VERSION:2.0
PRODID:-//Gratis-in-Berlin//NONSGML kigkonsult.se iCalcreator 2.14//
METHOD:PUBLISH
X-WR-CALNAME:Gratis-in-Berlin Tip Kalender
X-WR-CALDESC:Erhalte Gratis-in-Berlin Tips in deinem Kalender
BEGIN:VEVENT
UID:20260419T131237UTC-1338r6Ovs7@Gratis-in-Berlin
DTSTAMP:20260419T131237Z
DESCRIPTION:Gemeinsam bauen wir Solarboote und tauchen in die spannende Wel
 t der erneuerbaren Energien ein. Dabei erfahrt ihr\, wie Solarenergie funk
 tioniert und welchen Beitrag Erneuerbare Energien für unsere Zukunft spielen. I
 hr experimentiert mit Upcycling Materialien und Elektromotoren und baut eu
 re eigenen Solarboote. Dabei entdeckt ihr wie die Energie der Sonne genutz
 t wird\, um die Boote anzutreiben. Neben technischen Überlegungen\, ist auc
 h eure Kreativität gefragt. Wie kann die Solarzelle den Motor und Propeller 
 antreiben\, um die Boote in Fahrt zu bekommen? Lasst eurer Kreativität freie
 n Lauf und verwandelt alte Verpackungsmaterialien in Solarboote aus Styrop
 or\, alten Plastikflaschen\, Dosen oder leeren Joghurtbechern. Bringt gern
 e eine Verpackung von zu Hause mit\, die ihr beim Klimazirkus in ein Solar
 boot verwandeln wollt! Kostenlos und ohne Anmeldung! Wir haben auch eine S
 chenkbox\, gib gerne etwas dazu und nimm etwas mit! Wetterhinweis: Bei and
 auerndem Regen oder Sturm fällt das Mitmachangebot aus.\n\nViel Spass wünscht Gra
 tis-in-Berlin\n\nLink zum Tip: \nZu den Gratis-in-Berlin Angeboten: http:/
 /www.gratis-in-berlin.de\n
DTSTART;VALUE=DATE:20240809
DTEND;VALUE=DATE:20240810
SUMMARY:DIY Zirkuswerkstatt: Solarboote bauen und die Kraft der Sonne entde
 cken
END:VEVENT
END:VCALENDAR
