BEGIN:VCALENDAR
VERSION:2.0
PRODID:-//Gratis-in-Berlin//NONSGML kigkonsult.se iCalcreator 2.14//
METHOD:PUBLISH
X-WR-CALNAME:Gratis-in-Berlin Tip Kalender
X-WR-CALDESC:Erhalte Gratis-in-Berlin Tips in deinem Kalender
BEGIN:VEVENT
UID:20260419T130202UTC-2522MTUIIt@Gratis-in-Berlin
DTSTAMP:20260419T130202Z
DESCRIPTION:Näht euer kleines Monster zum Sorgenfressen oder Kuscheln für Kinder z
 wischen 10 und 16 Jahren!\n\nViel Spass wünscht Gratis-in-Berlin\n\nLink zum Ti
 p: \nZu den Gratis-in-Berlin Angeboten: http://www.gratis-in-berlin.de\n
DTSTART;VALUE=DATE:20240723
DTEND;VALUE=DATE:20240726
SUMMARY:Nähkurs 'Verflixt\, vermonstert und zugenäht'
END:VEVENT
END:VCALENDAR
