BEGIN:VCALENDAR
VERSION:2.0
PRODID:-//Gratis-in-Berlin//NONSGML kigkonsult.se iCalcreator 2.14//
METHOD:PUBLISH
X-WR-CALNAME:Gratis-in-Berlin Tip Kalender
X-WR-CALDESC:Erhalte Gratis-in-Berlin Tips in deinem Kalender
BEGIN:VEVENT
UID:20260420T114847UTC-1734VCMDRF@Gratis-in-Berlin
DTSTAMP:20260420T114847Z
DESCRIPTION:Die Bezirkszentralbibliothek ?Mark Twain? veranstaltet am 11. A
 pril 2025 von 16 Uhr bis 19:30 Uhr einen Anime- und Manga-Flohmarkt.An über 36 
 verschiedenen Ständen findet Ihr Sachen zum Thema Anime\, Japan und Gaming. 
 Die ganze zweite Etage der Bibliothek steht für euch offen!Solltest du dir aber
  bereits denken: ?Oh man\, ich habe gar keinen Platz mehr. Wohin mit meine
 m Merchandise?? ? kannst du dich auch kostenlos als Standbetreiber bei uns
  anmelden und so ein bisschen was für deinen nächsten Convention-Besuch dazu verd
 ienen.Standbetreiber melden sich bitte an. Besucher benötigen keine Anmeldung
 .Wir freuen uns auf deinen Besuch! (???)Anmeldung:https://pretix.eu/Mark-T
 wain-Bibliothek/Flohmarkt-2/\n\nViel Spass wünscht Gratis-in-Berlin\n\nLink zum
  Tip: https://www.gratis-in-berlin.de/kinder-jugendliche/item/2070083-anim
 e-und-manga-flohmarkt\nZu den Gratis-in-Berlin Angeboten: http://www.grati
 s-in-berlin.de\n
DTSTART;VALUE=DATE:20250411
DTEND;VALUE=DATE:20250412
SUMMARY:Anime- und Manga- Flohmarkt
END:VEVENT
END:VCALENDAR
