BEGIN:VCALENDAR
VERSION:2.0
PRODID:-//Gratis-in-Berlin//NONSGML kigkonsult.se iCalcreator 2.14//
METHOD:PUBLISH
X-WR-CALNAME:Gratis-in-Berlin Tip Kalender
X-WR-CALDESC:Erhalte Gratis-in-Berlin Tips in deinem Kalender
BEGIN:VEVENT
UID:20260421T142355UTC-9380pZVVge@Gratis-in-Berlin
DTSTAMP:20260421T142355Z
DESCRIPTION:Lesefest 'Mein Block\, mein Buch!' auf dem HertzbergplatzAm Sam
 stag\, dem 10. Mai von 15:00 - 18:00 Uhr findet auf dem Hertzbergplatz im 
 Rahmen des Tag der Städtebauförderung ein Lesefest mit vielen Mitmachstationen 
 für Familien mit Kindern im Kita- und Grundschulalter statt.Das könnt ihr dort mac
 hen:?Vorlesen im Lesezelt auf deutsch\, arabisch\, bulgarisch\, rumänisch\, 
 türkisch und ukrainisch(Stadtteilmütter Neukölln)?Lesezeichen basteln (Schulbibliothek 
 Eduard-Mörike-Schule)?Leporello-Buch basteln(Jugendkunstschule Young Arts Neu
 kölln)?bewegtes Kreuzworträtsel (bwgt e.V.)?Siebdruck-Aktion (QM Harzer Straße)?
 Buchgeschenke vom Büchertaxi (Berliner Büchertisch)?Snacks und Getränke(Förderverein der 
 Eduard-Mörike-Schule)Wir freuen uns auf euch!Die Schulbibliothek der Eduard-M
 örike-Schule und das QM Harzer Straße\n\nViel Spass wünscht Gratis-in-Berlin\n\nLin
 k zum Tip: \nZu den Gratis-in-Berlin Angeboten: http://www.gratis-in-berli
 n.de\n
DTSTART;VALUE=DATE:20250510
DTEND;VALUE=DATE:20250511
SUMMARY:Lesefest 'Mein Block\, mein Buch!' auf dem Hertzbergplatz
END:VEVENT
END:VCALENDAR
