BEGIN:VCALENDAR
VERSION:2.0
PRODID:-//Gratis-in-Berlin//NONSGML kigkonsult.se iCalcreator 2.14//
METHOD:PUBLISH
X-WR-CALNAME:Gratis-in-Berlin Tip Kalender
X-WR-CALDESC:Erhalte Gratis-in-Berlin Tips in deinem Kalender
BEGIN:VEVENT
UID:20260419T122215UTC-2717G7e7UT@Gratis-in-Berlin
DTSTAMP:20260419T122215Z
DESCRIPTION:Bei diesem kostenfreien Kreativ-Angebot können Familien schreiben 
 und mit Schrift gestalten wie vor 120 Jahren.Ob erste Buchstaben\, geschwu
 ngene Worte oder kleine Geschichten: Im Museumslabor des Museums Ephraim-P
 alais entdecken Erwachsene und Kinder gemeinsam die Vielfalt des Schreiben
 s. Dabei können sie Wachstafeln\, Gänsefedern mit Tinte auf Papier oder Graphit
 stifte auf Tafeln ausprobieren und so auf verschiedene Weise eigene Texte 
 gestalten.Vermittler:innen geben dabei Einblicke in historische und modern
 e Schreibtechniken und unterstützen bei der Umsetzung eigener Ideen. So entsteh
 en persönliche Schriftstücke oder kleine Kalligrafie-Kunstwerke. Einfach reinkomme
 n und mitmachen!Hinweis:&nbsp\;Dieses Angebot richtet sich an Kinder\, die
  schon schreiben können.Treffpunkt: Museumslabor | Museum Ephraim-Palais\n\nV
 iel Spass wünscht Gratis-in-Berlin\n\nLink zum Tip: \nZu den Gratis-in-Berlin A
 ngeboten: http://www.gratis-in-berlin.de\n
DTSTART;VALUE=DATE:20260411
DTEND;VALUE=DATE:20260412
SUMMARY:Museum Ephraim-Palais | Kreativ-Angebot für Familien: Schreibwerkstatt |
  11 - 14 Uhr
END:VEVENT
END:VCALENDAR
