BEGIN:VCALENDAR
VERSION:2.0
PRODID:-//Gratis-in-Berlin//NONSGML kigkonsult.se iCalcreator 2.14//
METHOD:PUBLISH
X-WR-CALNAME:Gratis-in-Berlin Tip Kalender
X-WR-CALDESC:Erhalte Gratis-in-Berlin Tips in deinem Kalender
BEGIN:VEVENT
UID:20260422T091849UTC-9778MKUnXu@Gratis-in-Berlin
DTSTAMP:20260422T091849Z
DESCRIPTION:Vorlesung: Was Farben bedeuten und wie sie auf uns wirkenProf. 
 Katrin Hinz\, HTW BerlinWorkshop: Tipps und Tricks für junge Daten-ProfisNancy 
 Simon\, Referentin für den Berliner DatenschutzVorlesung: Wie Tiere in der Wild
 nis die Kälte meisternMiriam Raab\, Umweltpädagogin in der Zooschule BerlinDur
 chgehend Experimentiertische: Fingerabdrücke und tanzende GummibärenForschergarte
 n\n\nViel Spass wünscht Gratis-in-Berlin\n\nLink zum Tip: \nZu den Gratis-in-Be
 rlin Angeboten: http://www.gratis-in-berlin.de\n
DTSTART;VALUE=DATE:20251101
DTEND;VALUE=DATE:20251102
SUMMARY:KinderUni Lichtenberg: KULer Tag der Wissenschaft - für die ganze Famili
 e
END:VEVENT
END:VCALENDAR
