BEGIN:VCALENDAR
VERSION:2.0
PRODID:-//Gratis-in-Berlin//NONSGML kigkonsult.se iCalcreator 2.14//
METHOD:PUBLISH
X-WR-CALNAME:Gratis-in-Berlin Tip Kalender
X-WR-CALDESC:Erhalte Gratis-in-Berlin Tips in deinem Kalender
BEGIN:VEVENT
UID:20260419T144109UTC-6308mfnmTb@Gratis-in-Berlin
DTSTAMP:20260419T144109Z
DESCRIPTION:Gezeigt wird der Familienfilm ?Marys magische Reise? (Altersemp
 efehlung: 8\; FSK 0). Freitag\, 13. Februar 2026 | 16.00-17.30 UhrKostenfr
 ei | Anmeldung:&nbsp\;https://app.cituro.com/booking/stadtteilbibliothekli
 chtenrade?presetCategory=11ef8d3d5573d2c99c4b9f311fc98e70#step=1Oma ist ei
 nfach die Beste! Mary liebt sie über alles und hat ihre Liebe fürs Kochen von ihr ge
 erbt. Einer ihrer größten Träume ist es\, an einer berühmten Kochschule angenommen z
 u werden\, aber ihr erster Versuch endet in einer Katastrophe. Enttäuscht un
 d verärgert über die fehlende Wertschätzung\, schmiedet Mary neue Pläne.Doch dann wir
 d ihre Oma krank und muss ins Krankenhaus. Während Marys Mutter dort die tra
 urige Wahrheit über den Zustand ihrer Mutter erfährt\, trifft Mary auf Anastasia\
 , die ihre Oma zu kennen scheint und ihr eine Botschaft überbringen möchte. Doch n
 iemand aus ihrer Familie kennt diese Frau\, und einige glauben sogar\, das
 s sie nicht wirklich existiert...\n\nViel Spass wünscht Gratis-in-Berlin\n\nLin
 k zum Tip: \nZu den Gratis-in-Berlin Angeboten: http://www.gratis-in-berli
 n.de\n
DTSTART;VALUE=DATE:20260213
DTEND;VALUE=DATE:20260214
SUMMARY:Filmnachmittag für Kinder in der Stadtteilbibliothek Lichtenrade
END:VEVENT
END:VCALENDAR
