BEGIN:VCALENDAR
VERSION:2.0
PRODID:-//Gratis-in-Berlin//NONSGML kigkonsult.se iCalcreator 2.14//
METHOD:PUBLISH
X-WR-CALNAME:Gratis-in-Berlin Tip Kalender
X-WR-CALDESC:Erhalte Gratis-in-Berlin Tips in deinem Kalender
BEGIN:VEVENT
UID:20260419T122619UTC-4575cp2VZ1@Gratis-in-Berlin
DTSTAMP:20260419T122619Z
DESCRIPTION:Dreh deinen eigenen Trickfilm. Lass LEGO®-Figuren in deiner Gesc
 hichte Bild für Bild zum Leben erwachen.Montag\, 02. Februar 2026 | 10.00-13.00
  Uhr Dienstag\, 03. Februar 2026 | 10.00-13.00 UhrKostenfrei | Ab 8 Jahren
 Anmeldung: https://app.cituro.com/booking/stadtteilbibliotheklichtenrade?p
 resetCategory=11ef8d3d5573d2c99c4b9f311fc98e70#step=1\n\nViel Spass wünscht Gra
 tis-in-Berlin\n\nLink zum Tip: \nZu den Gratis-in-Berlin Angeboten: http:/
 /www.gratis-in-berlin.de\n
DTSTART;VALUE=DATE:20260202
DTEND;VALUE=DATE:20260204
SUMMARY:Trickfilm-Workshop in der Stadtteilbibliothek Lichtenrade
END:VEVENT
END:VCALENDAR
