BEGIN:VCALENDAR
VERSION:2.0
PRODID:-//Gratis-in-Berlin//NONSGML kigkonsult.se iCalcreator 2.14//
METHOD:PUBLISH
X-WR-CALNAME:Gratis-in-Berlin Tip Kalender
X-WR-CALDESC:Erhalte Gratis-in-Berlin Tips in deinem Kalender
BEGIN:VEVENT
UID:20260420T113947UTC-0480uVj1Cu@Gratis-in-Berlin
DTSTAMP:20260420T113947Z
DESCRIPTION:Bei hoffentlich noch schönem Wetter genießen wir die Sonnenstrahlen
  und lauschen dabei Märchen\, die von allerlei lustigen Begebenheiten handel
 n\, etwa einem Mann\, der nur zu gerne Hausfrau sein möchte\, weil er glaubt\
 , sie habe es leichter als er\, oder aber die Wette der drei Gauner\, die 
 einem Händler gar übel mitspielen. Ein Bauer entdeckt einen Schatz\, aber mit Lis
 t und Tücke sorgt er dafür\, dass er ihn behalten kann. Schließlich tauscht ein Junge
  seine gute Kuh gegen drei rose Ferkelchen und ein Junge der schon alles h
 at\, entdeckt Zauberäpfel.? Der Schatz (Svend Grundtvig)? Die drei rot(h)en 
 Ferkelchen (Svend Gundtvig)? Die Zauberäpfel (Nordisches Volksmärchen)? Wie ei
 n Mann Hausfrau war (Estnisches Märchen)\n\nViel Spass wünscht Gratis-in-Berlin\n
 \nLink zum Tip: https://www.gratis-in-berlin.de/kalender/item/2074466-maer
 chenspass-auf-der-lesewiese\nZu den Gratis-in-Berlin Angeboten: http://www
 .gratis-in-berlin.de\n
DTSTART;VALUE=DATE:20250917
DTEND;VALUE=DATE:20250918
SUMMARY:Märchenspaß auf der Lesewiese
END:VEVENT
END:VCALENDAR
