BEGIN:VCALENDAR
VERSION:2.0
PRODID:-//Gratis-in-Berlin//NONSGML kigkonsult.se iCalcreator 2.14//
METHOD:PUBLISH
X-WR-CALNAME:Gratis-in-Berlin Tip Kalender
X-WR-CALDESC:Erhalte Gratis-in-Berlin Tips in deinem Kalender
BEGIN:VEVENT
UID:20260419T145937UTC-7598GRtgBe@Gratis-in-Berlin
DTSTAMP:20260419T145937Z
DESCRIPTION:Wir sammeln eure Ideen für eine lebenswerte grüne Stadt. Ab 8 Jahren.Wir 
 sammeln eure Ideen für eine lebenswerte grüne Stadt. Wie können wir unsere Umgebung so 
 gestalten\, dass wir mit Herausforderungen wie Hitze\, Starkregen und dem 
 Klimawandel besser umgehen können?Und was braucht es\, damit diese Orte zum S
 pielen\, Verweilen und für Begegnungen einladen?Mithilfe von KI verwandeln wir 
 eure Ideen in Bilder\, die zeigen\, wie eure Stadt der Zukunft aussehen könnt
 e.Ab 8 Jahren.Ohne Anmeldung.Diese Veranstaltung findet im Rahmen der 'Saf
 er Internet Days' statt.Zwei Termine:05.02. 15-17 Uhr13.02. 15-17 Uhr\n\nV
 iel Spass wünscht Gratis-in-Berlin\n\nLink zum Tip: \nZu den Gratis-in-Berlin A
 ngeboten: http://www.gratis-in-berlin.de\n
DTSTART;VALUE=DATE:20260213
DTEND;VALUE=DATE:20260214
SUMMARY:KI Klimawerkstatt | Workshop für Familien mit Kindern 
END:VEVENT
END:VCALENDAR
