BEGIN:VCALENDAR
VERSION:2.0
PRODID:-//Gratis-in-Berlin//NONSGML kigkonsult.se iCalcreator 2.14//
METHOD:PUBLISH
X-WR-CALNAME:Gratis-in-Berlin Tip Kalender
X-WR-CALDESC:Erhalte Gratis-in-Berlin Tips in deinem Kalender
BEGIN:VEVENT
UID:20260421T155925UTC-7388whACzM@Gratis-in-Berlin
DTSTAMP:20260421T155925Z
DESCRIPTION:Einmal im Monat laden wir Eltern mit kleinen Kindern in die Pop
 -Up-Else ein\, um sich auszutauschen und Bücher auszuleihen. Es werden neue Med
 ien für Kleinkinder vorgestellt\, Geschichten vorgelesen und auch Buchempfehlun
 gen für Eltern gegeben.Für Kaffee\, Tee und Gebäck ist gesorgt\, so dass die Eltern in
  entspannter Atmosphäre zusammenkommen können. Dienstag\, 24. Februar &amp\; 24
 . März 2026 // jeweils um 16 Uhr- Pop-Up-Else- Kinder bis 4 Jahren und deren
  Eltern- ohne Anmeldung\n\nViel Spass wünscht Gratis-in-Berlin\n\nLink zum Tip:
  https://www.gratis-in-berlin.de/kinder-jugendliche/item/2077022-kiez-mini
 s-treff\nZu den Gratis-in-Berlin Angeboten: http://www.gratis-in-berlin.de
 \n
DTSTART;VALUE=DATE:20260224
DTEND;VALUE=DATE:20260225
SUMMARY:Kiez-Minis-Treff
END:VEVENT
END:VCALENDAR
