BEGIN:VCALENDAR
VERSION:2.0
PRODID:-//Gratis-in-Berlin//NONSGML kigkonsult.se iCalcreator 2.14//
METHOD:PUBLISH
X-WR-CALNAME:Gratis-in-Berlin Tip Kalender
X-WR-CALDESC:Erhalte Gratis-in-Berlin Tips in deinem Kalender
BEGIN:VEVENT
UID:20260420T140041UTC-446167kZBe@Gratis-in-Berlin
DTSTAMP:20260420T140041Z
DESCRIPTION:Das HKW lädt Kinder jeden Alters und ihre Familien zur Kinderdisk
 o ein: Glitzernde Umgebung zum Austoben\, Tanzen\, untereinander Vernetzen
 \, DJs\, kurzum: Clubkultur für die Kleinsten.Die Kinderdisko ist ein offenes\,
  nicht betreutes Angebot\, bei dem die Aufsichtspflicht der Eltern und Erz
 iehungsberechtigten gilt.15 bis 17 Uhr.8. März 2026: Kinderdisko19. April 20
 26: Kinderdisko10. Mai 2026: Kinderdisko14. Juni 2026: Kinderdisko13. Sept
 ember 2026: Kinderdisko25. Oktober 2026: Kinderdisko15. November 2026: Kin
 derdisko13. Dezember 2026: Kinderdisko\n\nViel Spass wünscht Gratis-in-Berlin\n
 \nLink zum Tip: \nZu den Gratis-in-Berlin Angeboten: http://www.gratis-in-
 berlin.de\n
DTSTART;VALUE=DATE:20260419
DTEND;VALUE=DATE:20260420
SUMMARY:Kinderdisco / Familiendisco im Haus der Kulturen der Welt (mehrere 
 Termine)
END:VEVENT
END:VCALENDAR
